Workbook

Sheet Do Not Delete
B2: Confidential | C2: Own Product
B3: Non-Confidential | C3: Purchased
C5: Independent
C6: Associated
C8: Retailer
C9: Distributor
C10: End User
C11: Internal Transfer
C12: Other

Sheet Introduction
E3: TRA Safeguard Investigation Annex for UK Producers
B10: Case details
B11: Case Number | E11: SG0094
B12: Case Name | E12: Safeguard investigation into imports of Poly(ethylene Terephthalate)
B13: Company Name | E13: Alpek Polyester UK
B14: Completed on Behalf of:
B16: Deadline | D16: 46269
B17: Case team email | D17: SG0094@traderemedies.gov.uk
B19: Type of data being submitted | F19: Confidential | J19: Click on cell to the left and from the drop-down menu select either "Confidential" or "Non-confidential"
F21: Start | H21: End
B22: Period of Investigation (POI) | F22: 44197 | H22: 46022
B23: Last financial year prior to POI
B25: Accounting currency | E25: GBP | G25: State your accounting currency
B26: Units of Volume | E26: Kilograms | G26: State your accounting volume

Sheet Guidance
B2: Guidance
B6: Layout of annex tabs
B7: Each tab in the annex consists of the following items:
B8: 1 | C8: Case details table -This is a prepopulated table at the beginning of each tab. This contains the case number, company name, Period of investigation (POI). Please note that you do not have to complete it.
B9: 2 | C9: Instructions - This gives some basic points on how to complete the tab and the table(s) contained within it,
B10: 3 | C10: Accounting currency and /or unit of volume table - Not all tabs include this. This appears above the main data tables. This is to collect information on the units used to measure volume and value in the data table.
B11: 4 | C11: Main data table (s) - Please be aware that the table will have notes with further guidance for data that is collected. The location of the number of these Notes either appears as a column which is labelled 'Notes' or as a row underneath the main column labels. Each note is labelled [1] to [n], which can be cross-referenced to the Notes section which appear underneath the table.
B12: 5 | C12: Notes - This appears underneath the main data table. This contains further guidance on the data that needs to be provided. Each note is lablelled [1] to [n], which can be cross-referenced to the main table.
B14: Links to Guidance and Legislation
B15: TRA investigation process | I15: The TRA’s investigation process - GOV.UK
B16: WTO: Agreement on Safeguards | I16: WTO | legal texts
B17: UK: Taxation (Cross-border Trade) Act 2018: SCHEDULE 5 | I17: Taxation (Cross-border Trade) Act 2018
B18: UK: The Trade Remedies (Increase in Imports Causing Serious Injury to UK Producers) (EU Exit) Regulations 2019 | I18: The Trade Remedies (Increase in Imports Causing Serious Injury to UK Producers) (EU Exit) Regulations 2019
B19: TRA Public File | I19: TRA Investigations - Trade Remedies Service - GOV.UK
B21: Note on authentication
B22: The TRA will seek to authenticate the data provided in this questionnaire and the methodology used to compile it.
B24: Please provide us with all formulae and steps used in your calculations and keep a record of these and all related material/documentation for any authentication visit.
B26: It is strongly suggested that you read this whole page before progressing further.
B29: Exchange rates and currency conversion
B30: Where a currency conversion is required, we suggest you use the Bank of England exchange rate database where possible. If you use another source of Exchange rates, please use the table in the Data sources tab to record where you have done so, and the rationale for doing so. | M30: GBP exchange rates | Bank of England | Database
B34: Formula and modifications
B35: If you add or modify any formula or function in the annex, record the details and rationale in the Formula and modifications table in the Data sources tab. Add more lines if required.
B39: Formats
B40: Dates | E40: DD/MM/YYYY | J40: 45763
B41: Large numerical figures numbers | E41: For all numerical figures, where appropriate, express every third number with a comma. | J41: '1,300' for one-thousand three hundred, '1,300,000' for one million and three-hundred thousand
B44: Currency | E44: Limit all currency figures to two decimal places. Apply a full point as a decimal separator and use the appropriate currency symbol or abbreviation. | J44: £12345.67 USD$400.01
B50: Trial Balances
B51: If your financial year is fully aligned with the POI, this is all that is required.
B52: Where your financial period is not aligned with the POI, please provide trial balances (in original and spreadsheet form) to cover the following periods:
B54: A. the trial balance which starts from the beginning of your financial year and ends on 31 December 2024;
B56: B. the trial balance which starts from 1 January 2025 to the end of your financial year; and
B57: C. the trial balance which starts from the beginning of your following financial year and ends on 31 December 2025.
B72: Confidential and Non-Confidential Examples
B75: Redaction
B76: In many cases, redacting the information can be the simplest way of removing confidential information. This should be accompanied by a brief explanation, such as commercial sensitivity or personal details of a non-public figure.
B78: Confidential | H78: Non-confidential
B79: We use SAP accounting systems for our financial accounting, sales and production. Company expenditure is allocated as follows: 45% to region A; 30% to region B; 25% to region C. | H79: We use [redacted – commercially sensitive information] accounting systems for our financial accounting, sales and production. Company expenditure is allocated across three regions [the exact split of the allocation has been deleted for reasons of commercial sensitivity].
B85: The main inputs for our production process are steel and aluminium. We source these materials from our supplier, Company A. The terms of sales and pricing are negotiated with Company A on a transaction-by-transaction basis. | H85: The main inputs for our production process are steel and aluminium. We source these materials from [redacted – commercially sensitive information]. The terms of sales and pricing are negotiated with [redacted – commercially sensitive information] on a transaction-by-transaction basis.
B91: Legal name of company | E91: Company Ltd | H91: Legal name of company | K91: Company Ltd
B92: Legal structure | E92: Limited Company | H92: Legal structure | K92: Limited Company
...

Sheet Contents
E1: Glossary
B3: Contents
B6: Section | C6: Annex tabs | D6: Link to questionnaire main section | E6: Sub-section of questionnaire
B7: A | C7: Associated companies | D7: Section A: Company structure and operations | E7: A3 Organisational structure
B8: B | C8: Your company's goods | D8: Section B: About your goods | E8: B2: Understanding your like goods
B9: C | C9: Cost to make | D9: Section C: Costs and Production | E9: C1: Cost to make and sell
C10: AS&G
C11: Costs reconcilation | E11: C2: Cost reconcilation
C12: Raw material and inputs | E12: C5: Raw material (RM) and major input purchases
B13: D | C13: Sales reconciliation | D13: Section D: Sales | E13: D1: Sales reconciliation
C14: Transaction-by-transaction domestic sales | E14: D3: Domestic sales
B15: F | C15: Injury | D15: Section F: Serious Injury to your company | E15: F1: Serious Injury
B16: H | C16: Economic Interest Test | D16: Section H: Economic Interest Test | E16: H2: Your company
C17: Glossary

Sheet Data sources & changes
F1: Glossary
B2: Data sources and changes
B5: Exchange rates and currency conversion
B6: Where a currency conversion is required, we suggest you use the Bank of England exchange rate database where possible. If you use another source of Exchange rates, record in this table where you in the annex you have done so, and the rationale for doing so. Add more rows if required. | F6: GBP exchange rates | Bank of England | Database
B7: Section | C7: Tab | D7: Method used | E7: Rationale | F7: Relevant Links
B16: Formula and modifications
B17: If you add or modify any formula or function in the annex, record the details and rationale in this table. Add more rows if required.
B18: Section | C18: Tab | D18: Details | E18: Rationale

Sheet 1) Associated companies
J1: Glossary
B3: Annex 1 - Associated companies
B4: Case no.: | C4: =Introduction!E11 -> SG0094
B5: Company name: | C5: =Introduction!E13 -> Alpek Polyester UK
B6: POI: | C6: =Introduction!F22 -> 44197 | D6: =Introduction!H22 -> 46022
B8: Instructions
B9: ▪ This tab contains two tables to be completed:
B10: - Table A: Associated companies - List all companies in the group associated with the like goods. - Complete the table for the Period of Investigation (POI).
B11: - Table B: Non- group entities - showing control exercised over non group entities.
B12: ▪ The first row of each has been entered as an example - please delete before submission.
B13: ▪ Add more rows in each table, if necessary.
B15: Table A: Associated companies | J15: Table B: Non-group entities
B16: General Information | F16: Activities | G16: Shareholding | J16: Type of control in non group entities (e.g. Directorship, Shareholding) | K16: Person/Entity Exercising Control | L16: Registered Office address | M16: Company email | N16: Company telephone number (Include country code in parenthesis) | O16: Transaction type: Purchase, Sales, Other | P16: Directorship / level of shareholding held in outside company
B17: Company name | C17: Address | D17: Representative email | E17: Telephone number (Include country code in parenthesis) | F17: Transaction type: Purchase, Sales, Other | G17: Shareholder with holding not less than 5% (Repeat row for each shareholder) | H17: Percentage shares held
B18: [1] | C18: [2] | D18: [3] | E18: [4] | F18: [5] | G18: [6] | H18: [7] | J18: [1] | K18: [2] | L18: [3] | M18: [4] | N18: [5] | O18: [6] | P18: [7]
B19: Compagnie ALPEK Polyester Canada | C19: 3498 Broadway Avenue Montreal (Quebec) Canada H1B 5B4 | D19: [Redacted - Contains personal information] | E19: [Redacted - Contains personal information] | F19: Manufacture and sale – PET | G19: [Redacted - contains commercially sensitive information] | H19: [Redacted - contains commercially sensitive information] | J19: None
B20: ECOPEK S.A. | C20: Avda. Gral. Juan Domingo Peron 3659 1617 General Pacheco Bueno Aires, Argentina | D20: [Redacted - Contains personal information] | E20: [Redacted - Contains personal information] | F20: Manufacture and sale – PET | G20: [Redacted - contains commercially sensitive information] | H20: [Redacted - contains commercially sensitive information]
B21: ALPEK Polyester Brasil, SA | C21: Rodovia PE 60, KM 10 Zona Industrial 3B Suape, CEP 55590-000 Ipojuca, PE Brazil | D21: [Redacted - Contains personal information] | E21: [Redacted - Contains personal information] | F21: Manufacture and sale – PET | G21: [Redacted - contains commercially sensitive information] | H21: [Redacted - contains commercially sensitive information]
B22: ALPEK Polyester USA LLC | C22: 7621 Little Ave Ste 500, Charlotte, NC, 28226 | D22: [Redacted - Contains personal information] | E22: [Redacted - Contains personal information] | F22: Manufacture and sale – PET and PTA | G22: [Redacted - contains commercially sensitive information] | H22: [Redacted - contains commercially sensitive information]
B23: ALPEK Polyester Argentina SA | C23: Camino Santa Ana S/N Parque Industrial Zarate (B28000FA) Zarate Pcia. Buenos Aires, Argentina | D23: [Redacted - Contains personal information] | E23: [Redacted - Contains personal information] | F23: Manufacture and sale – PET | G23: [Redacted - contains commercially sensitive information] | H23: [Redacted - contains commercially sensitive information]
B24: ALPEK Polyester USA, LLC | C24: 7621 Little Ave Ste 500, Charlotte, NC, 28226 | D24: [Redacted - Contains personal information] | E24: [Redacted - Contains personal information] | F24: Manufacture and sale – PET and PTA | G24: [Redacted - contains commercially sensitive information] | H24: [Redacted - contains commercially sensitive information]
B25: ALPEK Polyester Mexico, SA DE CV | C25: Predio Buenavista de Torres, KM 29. Barrancas, Cosoleacaque, Veracruz, Mexico. | D25: [Redacted - Contains personal information] | E25: [Redacted - Contains personal information] | F25: Manufacture and sale – PET | G25: [Redacted - contains commercially sensitive information] | H25: [Redacted - contains commercially sensitive information]
B28: Notes to Table A | J28: Notes to table B
B29: [1] | C29: Full name of the company as appears on the invoice and / or contract. | J29: [1] | K29: State the type of control on another business involved in the production, sales or importation of the goods subject to review or the like goods in another group of companies or business.
B30: [2] | C30: Registered office address of the company. | J30: [2] | K30: State the legal entity or name of the person that has control.
B31: [3] | C31: Email of the company representative. | J31: [3] | K31: Registered office address of the company.
B32: [4] | C32: Telephone number of the company representative, including the country code if the associated company is based abroad. | J32: [4] | K32: Email of the company representative.
B33: [5] | C33: The principal activities of the Associated Company should be listed here. | J33: [5] | K33: Telephone number of the company representative, including the country code if the associated company is based abroad.
B34: [6] | C34: State the legal entity or person that is the beneficial owner of shares. | J34: [6] | K34: The principal activities of the outside group or business should be listed here.
B35: [7] | C35: If an associated company holds shares in your company, state here the percentages of your company's shares held by the associated company. | J35: [7] | K35: State what directorship (e.g. CEO/Non executive director) or level of shareholding that can be used to exert control.

Sheet 2) Goods
F1: Glossary
B3: Annex 2 - Goods
B4: Case no.: | C4: =Introduction!E11 -> SG0094
B5: Company name: | C5: =Introduction!E13 -> Alpek Polyester UK
B6: POI: | C6: =Introduction!F22 -> 44197 | D6: =Introduction!H22 -> 46022
B8: Instructions:
B9: ▪ Complete the table below, by product, for all like goods that you sold during the Period of Investigation (POI).
B10: ▪ The first row has been entered as an example - please delete before submission and add more rows as necessary.
B12: Description of the goods: Poly(ethylene Terephthalate) resin, whether virgin produced poly(ethylene terephthalate) ("vPET") having a viscosity number of 74 ml/g or higher or recycled poly(ethylene terephthalate) ("rPET") of the same viscosity range.
B18: Commodity Code | C18: Internal Product / Model Number | D18: Essential characteristics (physical) of the product / model | E18: Essential characteristics (commercial) of the product / model
B19: [1] | C19: [2] | D19: [3] | E19: [4]
B20: 3907 61 3907 69 | C20: 65000001 65000002 65000003 65000004 65000031 65000032 65000033 65000034 65000041 65000042 65000043 65000044 | D20: The vPET produced is a thermoplastic polyester polymer that is highly flexible and colourless, manufactured into pellets, with an intrinsic viscosity of 74 ml/g or higher . | E20: It is identical to vPET imported into the UK and like rPET directly, competes and is interchangeable with, imported vPET and rPET. These products are virtually chemically and physically identical, are manufactured using the same raw inputs and are commercially interchangeable as they are suitable for the same end-uses. rPET and vPET are generally used for food packaging including containers, bottles and thermoformed sheets.
B28: Notes
B29: [1] | C29: Commodity Code (As per UK Integrated Online Tariff Checker)
B30: [2] | C30: This refers to the internal company code of the product in your system.
B31: [3] | C31: Physical characteristics to consider include: age; appearance; chemical composition; contents; grade/standards; purity/yield; quality; size/dimensions; strength; taste; weight.
B32: [4] | C32: Commercial characteristics to consider include: end use; distribution channels; identity of customers; whether the products compete directly in the UK market; price differences.

Sheet 3) Cost to Make
K1: Glossary
B3: Annex 3 - Cost to Make & Sell
B4: Case no.: | C4: =Introduction!E11 -> SG0094
B5: Company name: | C5: =Introduction!E13 -> Alpek Polyester UK
B6: POI: | C6: =Introduction!F22 -> 44197 | D6: =Introduction!H22 -> 46022
B8: Instructions
B9: ▪ Provide in the All goods' row, the total cost to make by cost type, for all goods produced by your company or an associated party during the period of investigation (POI).
B10: ▪ Provide the cost to make for All like goods produced by your company or an associated party during the POI.
B11: ▪ Provide the cost to make for All like goods sold on UK domestic market' produced by your company or an associated party during the POI sold in the domestic market.
B12: ▪ All figures should be reported net of recoverable tax.
B13: ▪ Add additional columns where necessary e.g. additional material or overhead costs.
B14: ▪ Adapt the headings of each column (e.g. raw materials, energy) to suit the naming conventions of your own cost accounting system.
B16: Accounting currency | F16: State your accounting currency
B17: Units of volume | F17: State the unit of volume (e.g. kg. Tonnes, metres, litres, each etc.).
B19: Type of goods | D19: Period | E19: Units produced (KG) | F19: Raw material 1 (PTA) | G19: Raw material 2 (MEG) | H19: Raw material 3 (IPA) | I19: Raw material 4 (Antimony) | J19: Raw material 5 (Phosphoric acid) | K19: Raw material 6 (TIN) | L19: Raw material 7 (RPET) | M19: Energy Costs | N19: Direct labour cost | O19: Other direct costs (DEG) | P19: Manufacturing overhead 1 (Maintenance) | Q19: Manufacturing overhead 2 (Depreciation) | R19: Manufacturing overhead 3 (Fixed fees) | S19: Other costs (specify) | T19: Commission | U19: Freight | V19: stock handling | W19: SG&A | X19: Total cost
E20: [1] | F20: [2] | G20: [2] | H20: [2] | M20: [3] | N20: [4] | O20: [5] | P20: [6] | Q20: [6] | R20: [6] | S20: [5]
B21: All goods | D21: Annual | E21: [Redacted - contains commercially sensitive information]
B22: All like goods | D22: Annual
B23: All like goods sold on UK domestic market | D23: Annual
B24: All directly competitive goods | D24: Annual
B25: All directly competitive goods sold on UK domestic market | D25: Annual
B26: (If applicable) v-PET | D26: Annual
B27: (If applicable) r-PET | D27: Annual
B29: By commodity code | D29: Period | E29: Units produced (KG) | F29: Raw material 1 (PTA) | G29: Raw material 2 (MEG) | H29: Raw material 3 (IPA) | I29: Raw material 4 (Antimony) | J29: Raw material 5 (Phosphoric acid) | K29: Raw material 6 (TIN) | L29: Raw material 7 (RPET) | M29: Energy Costs | N29: Direct labour cost | O29: Other direct costs (DEG) | P29: Manufacturing overhead 1 (Maintenance) | Q29: Manufacturing overhead 2 (Depreciation) | R29: Manufacturing overhead 3 (Fixed fees) | S29: Other costs (specify) | T29: Commission | U29: Freight | V29: stock handling | W29: SG&A | X29: Total cost
E30: [1] | F30: [2] | G30: [2] | H30: [2] | M30: [3] | N30: [4] | O30: [5] | P30: [6] | Q30: [6] | R30: [6] | S30: [5]
B31: Commodity code 1 - 39076100 | D31: Annual | E31: [Redacted - contains commercially sensitive information]
B32: Commodity code 1 | D32: Annual
B33: +Add additional rows as required
B35: Notes
B36: [1] | C36: Specify how many units of each type of goods were produced.
B37: [2] | C37: Specify all the raw materials needed for the production of goods. Add more columns if necessary.
B38: [3] | C38: Specify all the energy costs needed for the production of goods. Add more columns if necessary.
B39: [4] | C39: Refer to costs incurred for employees directly involved in producing goods. Direct labour costs include basic hours, overtime (based on specific orders), bonuses, benefits, employer taxes, pensions.
B40: [5] | C40: Specify what other costs have been incurred.
B41: [6] | C41: This refers to manufacturing overheads. These are indirect costs associated with a manufacturing process that cannot be directly attributed to a specific product. Add more columns if necessary.

Sheet 4) AS&G
I1: Glossary
B3: Annex 4 - AS&G
B4: Case no.: | C4: =Introduction!E11 -> SG0094
B5: Company name: | C5: =Introduction!E13 -> Alpek Polyester UK
B6: POI: | C6: =Introduction!F22 -> 44197 | D6: =Introduction!H22 -> 46022
B8: Instructions
B9: ▪ This tab consists of two tables, complete both tables.
B10: ▪ In Table A, in the 'All goods' row, provide the total cost to sell by cost type, for all goods sold during the POI.
B11: ▪ In Table B, provide the total cost to sell by cost type, by commodity code for all like goods and directly competitive goods sold during the POI.
B12: ▪ Note: the AS&G figure should reconcile to the trial balance and/or income statement.
B13: ▪ All figures should be reported net of recoverable tax.
B14: ▪ Do NOT input data into the cells coloured yellow. The cells coloured yellow are automatically calculated.
B15: ▪ Add additional columns where necessary for further breakdown of cost types.
B16: ▪ Adapt the headings of each column to suit the categorisation of your own cost accounting system.
B17: ▪ Create more Commodity Code rows within Table B, if necessary. Ensure the Commodity Codes match those included under the Costs to Make tab.
B18: ▪ In Table B, delete the example row before populating.
B20: Accounting currency | F20: State your accounting currency
B22: Table A: AS&G costs in domestic markets for all goods.
B23: All goods | C23: Period | D23: Units sold (specify unit) | E23: Indirect labour cost | F23: Selling cost 1 (specify) | G23: Selling cost 2 (specify) | H23: Administrative and general cost 1 (specify) | I23: Administrative and general cost 2 (specify) | J23: Other costs 1 (specify) | K23: Other costs 2 (specify) | L23: Domestic freight cost
D24: [1] | E24: [2] | F24: [3] | G24: [3] | H24: [4] | I24: [4] | J24: [5] | K24: [5] | L24: [6]
B25: All goods | C25: Annual
B26: All Commodity Codes | C26: Annual | D26: [Redacted - contains commercially sensitive information]
B29: Table B: AS&G costs in domestic markets by Commodity Code
B30: Commodity Code | C30: Period | D30: Units sold (KG) | E30: Indirect labour cost | F30: Sales Commissions | G30: Other Employment Costs | H30: Other selling Expenses | I30: Professional Fees | J30: Administrative and general cost | K30: Other stock handling | L30: Domestic freight cost
D31: [1] | E31: [2] | F31: [3] | G31: [3] | H31: [4] | I31: [4] | J31: [5] | K31: [5] | L31: [6]
B32: PET Resin - 39076100 | C32: Annual-2025 | D32: [Redacted - contains commercially sensitive information]
B42: Notes
B43: [1] | C43: Specify the unit of the quantity sold (e.g. kg, MT) and then volumes against Commodity Codes.
B44: [2] | C44: Cost for employees not directly involved in producing the product, such as administrative, management, and support staff wages.
B45: [3] | C45: Costs related to sales. e.g. Commissions.
B46: [4] | C46: Costs to operate day-to-day activities that are not directly related to selling products.
B47: [5] | C47: This relates to other costs incurred including financial costs, R&D etc.
B48: [6] | C48: This figure should include costs incurred in transporting the goods to the customer. It is then removed to calculate the cost per unit at an Ex Works price.

Sheet 5) Cost reconciliation
G1: Glossary
B3: Annex 5 - Cost Reconciliation
B4: Case no.: | C4: =Introduction!E11 -> SG0094
B5: Company name: | C5: =Introduction!E13 -> Alpek Polyester UK
B6: POI: | C6: =Introduction!F22 -> 44197 | D6: =Introduction!H22 -> 46022
B8: Instructions:
B9: ▪ For each item in the table below, unless otherwise stated, provide data on the total costs and volume produced.
B10: ▪ Complete the white cells only. Cells that have been greyed out in the ''Volume' columns indicate that data is not required.
B11: ▪ Do NOT input data into the cells coloured yellow. The cells coloured yellow are automatically calculated. Where there is a variance in the calculated cells, provide an explanation in the comments column.
B12: ▪ If further explanation is needed on the data supplied, use the comments column.
B13: ▪ Specify the unit for data supplied in the 'Volume' column (e.g. each, kg, Tonnes, metres) in the 'Units of volume' column.
B14: ▪ Provide an explanation of any variance in the comments column.
B15: ▪ Indicate in the Source documents column the source you have used to supply the cost and quantity data and the corresponding appendix reference.
B17: Accounting currency | F17: State your accounting currency
B19: Notes | C19: Item | D19: Total costs (<currency>) | E19: Volume | F19: Units of volume | G19: Source documents | H19: Comments
B20: [1] | C20: Cost of ALL goods sold as stated in the Income Statement | D20: [redacted - contains commercially sensitive information] | E20: [redacted - contains commercially sensitive information] | F20: KG
B21: [2] | C21: Variance | D21: [redacted - contains commercially sensitive information]
B22: [3] | C22: Cost of ALL goods sold during the accounting period | D22: [redacted - contains commercially sensitive information]
B23: [4] | C23: Difference in total cost of all goods sold between POI and accounting period
B25: [5] | C25: Cost of ALL goods sold during the POI as stated in your workings (provide workings as 'source documents') | D25: [redacted - contains commercially sensitive information]
B26: [6] | C26: Variance | D26: [redacted - contains commercially sensitive information]
B27: [7] | C27: Cost of ALL goods sold during the POI | D27: [redacted - contains commercially sensitive information]
B28: [8] | C28: Change in finished goods stock of all goods during the POI
B30: [9] | C30: Cost of ALL goods produced during the POI as stated in your workings (provide workings as 'source documents') | D30: [redacted - contains commercially sensitive information]
B31: [10] | C31: Variance | D31: [redacted - contains commercially sensitive information]
B33: [11] | C33: Cost of ALL goods produced during the POI | D33: [redacted - contains commercially sensitive information]
B34: [12] | C34: Cost of ALL like goods produced during the POI | D34: [redacted - contains commercially sensitive information]
B35: [13] | C35: Cost of other good A produced during the POI | D35: [redacted - contains commercially sensitive information]
B36: [13] | C36: Cost of other good B produced during the POI
B37: [13] | C37: Cost of other good C produced during the POI
B38: [13] | C38: Cost of other good D produced during the POI
C39: (add new lines if required)
B41: [14] | C41: Cost of ALL like goods produced during the POI | D41: [redacted - contains commercially sensitive information] | E41: [redacted - contains commercially sensitive information] | F41: [redacted - contains commercially sensitive information]
B42: [15] | C42: Cost of ALL like goods produced for sales on the UK market during the POI | D42: [redacted - contains commercially sensitive information]
B43: [16] | C43: Cost of ALL like goods produced for export during the POI
B45: Notes
B46: [1] | C46: This figure should match to the total cost of sales as reported in your latest financial statements. Data on quantity is not required.
B47: [2] | C47: Automatically calculated - Do NOT enter any data in this row. This cell should reflect any differences between your workings and the financial statements. Provide an explanation of any variance in the comments column.
B48: [3] | C48: This figure should match back to the cost of sales figure as reported in your workings for the latest accounting period (should be the same period as the financial statement period used above). Data on quantity is not required.
B49: [4] | C49: Specify the difference in total cost of all goods sold between POI and accounting period.
...

Sheet 6) Raw materials and input
H1: Glossary
B3: Annex 6 - Raw material and input
B4: Case no.: | C4: =Introduction!E11 -> SG0094
B5: Company name: | C5: =Introduction!E13 -> Alpek Polyester UK
B6: POI: | C6: =Introduction!F22 -> 44197 | D6: =Introduction!H22 -> 46022
B8: Instructions:
B9: ▪ Input details for all purchase made of raw materials and inputs during the most recent year of the Period of Investigation.
B10: ▪ The first row has been entered as an example - please delete before submission.
B11: ▪ Add more rows, if necessary within the table or copy an existing row to the end of the table.
B13: Accounting currency | C13: GBP | E13: State your accounting currency
B15: (I) Supplier information | I15: (II) Purchase information
B16: Material type | C16: Products using material | D16: Supplier | E16: Contact name of supplier | F16: Address of supplier | G16: Date of purchase | H16: Country of manufacture | I16: Invoice Number | J16: Date of Invoice | K16: Quantity | L16: Invoice unit measurement | M16: Invoice currency | N16: Purchase price (excl. VAT) | O16: Unit price (excl. VAT) | P16: Purchase price in accounting currency (excl. VAT) - estimated | Q16: Delivery terms | R16: Discounted price and/or other preferential price? (Yes/No) | S16: If purchase is imported, explain the reason
B17: [1] | C17: [2] | D17: [3] | E17: [4] | F17: [5] | G17: [6] | H17: [7] | I17: [8] | J17: [9] | K17: [10] | L17: [11] | M17: [12] | N17: [13] | O17: [14] | P17: [15] | Q17: [16] | R17: [17] | S17: [18]
B18: [redacted - contains commercially sensitive information] | C18: all like goods | D18: [redacted - contains commercially sensitive information] | E18: [redacted - contains commercially sensitive information] | F18: [redacted - contains commercially sensitive information] | G18: [redacted - contains commercially sensitive information] | H18: [redacted - contains commercially sensitive information] | I18: [redacted - contains commercially sensitive information] | J18: [redacted - contains commercially sensitive information] | K18: [redacted - contains commercially sensitive information] | L18: [redacted - contains commercially sensitive information] | M18: [redacted - contains commercially sensitive information] | N18: [redacted - contains commercially sensitive information] | O18: [redacted - contains commercially sensitive information] | P18: [redacted - contains commercially sensitive information] | Q18: [redacted - contains commercially sensitive information] | R18: [redacted - contains commercially sensitive information] | S18: [redacted - contains commercially sensitive information]
B668: Notes
B669: [1] | C669: Name of the material purchased. This should reflect the description of the material as specified in the 'Cost to make' and 'AS&G' tabs.
B670: [2] | C670: Name of the product(s) you manufacture that uses the material specified in [1], specifying if it is a like good or not (e.g. all goods, all like goods or include specific PCNs which use this material).
B671: [3] | C671: Name of the supplier of the material.
B672: [4] | C672: Contact name for the supplier of the material.
B673: [5] | C673: Address of the supplier.
B674: [6] | C674: Date when the purchase was made.
B675: [7] | C675: Name of the country where the material was manufactured.
B676: [8] | C676: Number of the invoice.
B677: [9] | C677: Date of the invoice.
B678: [10] | C678: Quantity in units.
B679: [11] | C679: Specify the units of [10] (e.g. kg, Tonnes, metres, litres, each)
B680: [12] | C680: Currency as specified on the invoice.
... B686: [18] | C686: Explain the reason for importing the material or purchase e.g. Not produced in the UK.

Sheet 7) T-by-T domestic sales
F1: Glossary
B3: Annex 7 - Transaction by transaction domestic sales
B4: Case no.: | C4: =Introduction!E11 -> SG0094
B5: Company name: | C5: =Introduction!E13 -> Alpek Polyester UK
B6: POI: | C6: =Introduction!F22 -> 44197 | D6: =Introduction!H22 -> 46022
B8: Instructions:
B9: ▪ Complete the table which collects data on domestic sales of like goods and / or the directly competitive goods
B10: ▪ Include all your domestic sales net of returns of the like goods and / or directly competitive goods for the POI. This includes the like goods and directly competitive goods you have produced, purchased and resold and/or goods concerned that you have purchased and resold.
B11: ▪ The data should reflect only domestic sales of like and directly competitive goods and / or the goods concerned by commodity codes.
B12: ▪ Include all your domestic sales net of returns of the like goods and directly competitive goods for the POI.
B13: ▪ Report sales as a positive figure.
B14: ▪ Ensure you categorise each sale by commodity codes. For transactions or invoices that consist of multiple commodity codes, the same invoice number should be referenced.
B15: ▪ The first row has been entered as an example - please delete before submission.
B16: ▪ Add more rows, if necessary within the table or copy an existing row to the end of the table.
B18: Accounting currency
B20: Goods information | E20: Customer information | I20: Terms and measurements | K20: Invoice value
B21: Units produced (KG) | C21: Model / Product | D21: Source (Own Product / Purchased) | E21: Customer name | F21: Customer link (Independent / Associated) | G21: Customer type | H21: Customer type Other Describe | I21: Invoice quantity | J21: Invoice unit measurement | K21: Gross invoice value (£) | L21: Net invoice value (£)
B22: [1] | C22: [2] | D22: [3] | E22: [4] | F22: [5] | G22: [6] | H22: [7] | I22: [8] | J22: [9] | K22: [10] | L22: [11]
B23: [Redacted - contains commercially sensitive information]
B848: Notes
B849: [1] | C849: Refers to the commodity code your company produces.
B850: [2] | C850: If the product has a specific Model name/number, please state here. If not applicable, insert [N/A].
B851: [3] | C851: Click on a cell and a drop-down should appear. If the product has been produced by your own company, click on 'Own product'. If the product has been purchased from a producer click on 'Purchased'.
B852: [4] | C852: This refers to the name of the customer purchasing the product.
B853: [5] | C853: Click on the cell and a drop-down list should appear. From the drop-down list on each cell, click on either "Independent" or "Associated".
B854: [6] | C854: Click on a cell and from the drop-down list on each row, click on the type of customer:
C855: - Retailer (Sales directly to final customers)
C856: - Distributor (Purchase of goods for resale without major transformation (e.g. wholesalers, Importers, brokers))
C857: - End-User (Any customer not reselling the product)
C858: - Internal transfer
C859: - Other (Specify in Col [8]).
B860: [7] | C860: If the customer type input to [7] is NOT a Retailer, Wholesaler, Distributor, End-User or internal transfer please describe the type of customer.
B861: [8] | C861: The number of units purchased.
B862: [9] | C862: The measurement or quantity of items being invoiced. e.g. litres (L), meters (m), kilograms (KG), Tonnes (T) etc.
B863: [10] | C863: This is the total amount a customer is billed on an invoice, including all costs, taxes, and any other fees or charges.
B864: [11] | C864: Net invoice value = Gross Invoice value minus Taxes, discounts, rebates and other charges.

Sheet 8) Sales reconciliation
G1: Glossary
B3: Annex 8 - Sales reconciliation
B4: Case no.: | C4: =Introduction!E11 -> SG0094
B5: Company name: | C5: =Introduction!E13 -> Alpek Polyester UK
B6: POI: | C6: =Introduction!F22 -> 44197 | D6: =Introduction!H22 -> 46022
B8: Instructions:
B9: ▪ Complete the Sales reconciliation table below for the most recent year of the Period of Investigation.
B10: ▪ For each item in the table below, unless otherwise stated, provide data on the total costs and volume produced.
B11: ▪ Complete the white cells only - except where explanations to variances are required.
B12: ▪ Do NOT input data into the cells coloured yellow. The cells coloured yellow are automatically calculated.
B13: ▪ Specify the unit for data supplied in the 'Volume' column (e.g. each, kg, Tonne, metres) in the 'Units of volume' column.
B14: ▪ Reference source documents used where applicable in the comments column.
B16: Accounting currency | F16: State your accounting currency
B18: Notes | C18: Description | D18: Total Sales revenue | E18: Quantity | F18: Units of volume | G18: Source documents | H18: Comments
B19: [1] | C19: All goods sold as per Income Statement | D19: [Redacted - contains commercially sensitive information] | E19: [Redacted - contains commercially sensitive information] | F19: KG
B20: [2] | C20: Variance | D20: [Redacted - contains commercially sensitive information]
B21: [3] | C21: All goods sold during the accounting period | D21: [Redacted - contains commercially sensitive information]
B22: [4] | C22: Difference in total sales revenue of all goods sold between POI and accounting periods
B24: [5] | C24: All goods sold during the POI as stated in your workings | D24: [Redacted - contains commercially sensitive information] | E24: [Redacted - contains commercially sensitive information] | F24: KG
B25: [6] | C25: Variance | D25: [Redacted - contains commercially sensitive information] | E25: [Redacted - contains commercially sensitive information]
B27: [6] | C27: All goods sold during the POI | D27: =SUM(D28:D33) -> 0 | E27: =SUM(E28:E33) -> 0
B28: [6] | C28: All Like goods sold during the POI
B29: [7] | C29: Good A sales during the POI | D29: [Redacted - contains commercially sensitive information] | E29: [Redacted - contains commercially sensitive information]
B30: [7] | C30: Good B sales during the POI
B31: [7] | C31: Good C sales during the POI
B32: [7] | C32: Good D sales during the POI
C33: (add new lines if required)
B35: [6] | C35: All Like goods sold during the POI | D35: [Redacted - contains commercially sensitive information] | E35: [Redacted - contains commercially sensitive information]
B36: [8] | C36: Like goods sold on the UK market during the POI | D36: [Redacted - contains commercially sensitive information] | E36: [Redacted - contains commercially sensitive information]
C37: Like goods sold on export markets during the POI | D37: [Redacted - contains commercially sensitive information] | E37: [Redacted - contains commercially sensitive information]
B39: Notes
B40: [1] | C40: This figure should match to the total sales as reported in your latest financial statements.
B41: [2] | C41: Automatically calculated - Do NOT input any data into this cell. This cell should reflect any differences between your workings and the financial statements. Please provide an explanation of any variance in the comments section.
B42: [3] | C42: Automatically calculated - Do NOT input any data into this cell. This figure should match back to the sales figure as reported in your workings for the latest accounting period (should be the same period as the financial statement period used above).
B43: [4] | C43: Difference in total sales revenue of all goods between POI and accounting periods.
B44: [5] | C44: Total sales revenue and quantity of all goods during the POI as stated in your workings. Please provide an explanation of any variance in the comments section.
B45: [6] | C45: Automatically calculated - Do NOT input any data into this cell.
B46: [7] | C46: Provide details of the products you manufacture which are not the like goods. The headings (e.g. Good A during the POI, etc.) should be adapted to suit the names of your other goods. Specify the unit for quantity (e.g. each, kg, Ton, metres).
B47: [8] | C47: This figure should equal the total like goods sales figure as shown in the "T by T Domestic Sales" tab.

Sheet 9) Injury
F1: Glossary
B3: Annex 9 - Injury
B4: Case no.: | C4: =Introduction!E11 -> SG0094
B5: Company name: | C5: =Introduction!E13 -> Alpek Polyester UK
B6: POI: | C6: =Introduction!F22 -> 44197 | D6: =Introduction!H22 -> 46022
B8: Instructions:
B9: ▪ This section comprises 8 sections (A to H). Each section contains one or more indicators for which data is requested.
B10: ▪ Complete the table for the whole of the period of investigation. Note that the years have been auto-populated.
B11: ▪ 'Like goods' refers only to your domestically produced like goods and not any like goods or goods concerned that have been purchased/imported for resale.
B12: ▪ 'Other goods' refers to any other goods produced and/or any like goods, directly competitive goods or concerned that have been purchased/imported for resale.
B13: ▪ It should be noted that the POI period may not reflect your company accounting period. If this is the case, please adjust your data to reflect the periods stated in the year columns.
B14: ▪ In the comments column provide information on the calculation/estimation basis of the indicator and any other critical information such as the source of the data (e.g. workings).
B15: ▪ If there is additional information that we should be aware of for the data you supplied, please add a note in the comments column.
E17: Period of Investigation (POI) Years
B18: Section | C18: Indicator | D18: Notes | E18: 01 January 2021 to 31 December 2021 | F18: 01 January 2022 to 31 December 2022 | G18: 01 January 2023 to 31 December 2023 | H18: 01 January 2024 to 31 December 2024 | I18: 01 January 2025 to 31 December 2025 | J18: Comments
B19: A. Turnover | C19: Total turnover of whole company (£) | D19: [1] | E19: [Redacted - contains commercially sensitive information] | F19: [Redacted - contains commercially sensitive information] | G19: [Redacted - contains commercially sensitive information] | H19: [Redacted - contains commercially sensitive information] | I19: [Redacted - contains commercially sensitive information]
C20: Total turnover related to like goods (£) | D20: [2] | E20: [Redacted - contains commercially sensitive information] | F20: [Redacted - contains commercially sensitive information] | G20: [Redacted - contains commercially sensitive information] | H20: [Redacted - contains commercially sensitive information] | I20: [Redacted - contains commercially sensitive information]
C21: Total turnover related to other goods (£) | D21: [3] | E21: [Redacted - contains commercially sensitive information] | F21: [Redacted - contains commercially sensitive information] | G21: [Redacted - contains commercially sensitive information] | H21: [Redacted - contains commercially sensitive information] | I21: [Redacted - contains commercially sensitive information]
B22: B. Export sales of like goods | C22: Total export sales by volume (units or weight) | D22: [4] | E22: 100 | F22: 36.487723 | G22: 34.600162 | H22: 29.147347 | I22: 39.500379
C23: Total export sales by value (£) | D23: [5] | E23: 100 | F23: 47.634458 | G23: 35.742435 | H23: 28.732184 | I23: 32.237002
C24: Total domestic sales by volume (units or weight) | D24: [Sum of all commodity codes] | E24: 100 | F24: 95.48308 | G24: 82.286347 | H24: 81.895733 | I24: 65.936859
B25: C. Domestic sales of like goods | C25: Total domestic sales by value (£) | D25: [Sum of all commodity codes] | E25: 100 | F25: 149.61887 | G25: 102.17205 | H25: 94.863794 | I25: 68.135815
C26: Domestic sales by volume (Commodity Code 1, Please Specify) | D26: [6] | E26: 100 | F26: 95.48308 | G26: 82.286347 | H26: 81.895733 | I26: 65.936859
C27: Domestic sales by value (£) (Commodity Code 1, Please Specify) | D27: [7] | E27: 100 | F27: 149.61887 | G27: 102.17205 | H27: 94.863794 | I27: 68.135815
C28: Domestic sales by volume (Commodity Code 2, Please Specify) | D28: [6]
C29: Domestic sales by value (£) (Commodity Code 2, Please Specify) | D29: [7]
B30: D. Profitability | C30: Profit Before Tax (PBT) for whole company (£) | D30: [8] | E30: [Redacted - contains commercially sensitive information] | F30: [Redacted - contains commercially sensitive information] | G30: [Redacted - contains commercially sensitive information] | H30: [Redacted - contains commercially sensitive information] | I30: [Redacted - contains commercially sensitive information]
C31: Profit Before Tax from like goods (£) | D31: [9] | E31: [Redacted - contains commercially sensitive information] | F31: [Redacted - contains commercially sensitive information] | G31: [Redacted - contains commercially sensitive information] | H31: [Redacted - contains commercially sensitive information] | I31: [Redacted - contains commercially sensitive information]
C32: Average Profit Before Tax margin of like goods (%) | D32: [10] | E32: 100 | F32: 99.788024 | G32: -90.889119 | H32: -47.520487 | I32: -127.90855
C33: Total interest expense incurred for whole company (£) | D33: [11] | E33: [Redacted - contains commercially sensitive information] | F33: [Redacted - contains commercially sensitive information] | G33: [Redacted - contains commercially sensitive information] | H33: [Redacted - contains commercially sensitive information] | I33: [Redacted - contains commercially sensitive information]
C34: Finance costs (e.g. interest) incurred for like goods (£) | D34: [12] | E34: [Redacted - contains commercially sensitive information] | F34: [Redacted - contains commercially sensitive information] | G34: [Redacted - contains commercially sensitive information] | H34: [Redacted - contains commercially sensitive information] | I34: [Redacted - contains commercially sensitive information]
B35: E. Output | C35: Output by volume (units or weight) of the LIKE goods | D35: [13] | E35: 100 | F35: 88.211552 | G35: 71.922599 | H35: 62.718007 | I35: 59.09953
C36: Output by value (£) of the LIKE goods | D36: [14] | E36: 100 | F36: 128.78933 | G36: 92.637687 | H36: 74.95261 | I36: 64.372032
B37: F. Productivity | C37: Total number of employees (FTE) at year-end | D37: [15] | E37: 100 | F37: 100.96154 | G37: 100 | H37: 100 | I37: 95.192308
C38: Total number of employees for like goods (FTE) at year-end | D38: [16] | E38: 104 | F38: 105 | G38: 104 | H38: 104 | I38: 99
C39: Average output in volume per employee for like goods (FTE) | D39: [17] | E39: 100 | F39: 87.279255 | G39: 71.330125 | H39: 63.02104 | I39: 62.384326
C40: Median annual wage for FTE engaged in activities related to the like goods (GBP) | D40: [18] | E40: [Redacted - contains commercially sensitive information] | F40: [Redacted - contains commercially sensitive information] | G40: [Redacted - contains commercially sensitive information] | H40: [Redacted - contains commercially sensitive information] | I40: [Redacted - contains commercially sensitive information]
B41: G. Capacity | C41: Production capacity for like goods (units or weight) | D41: [19] | E41: 100 | F41: 100 | G41: 100 | H41: 100 | I41: 100
C42: Production capacity utilisation for like goods (%) | D42: [20] | E42: 100 | F42: 88.211552 | G42: 71.922599 | H42: 62.718007 | I42: 59.09953
B43: H. Cost to Make, and AS&G | C43: Total cost to produce the like goods (£) | D43: [Sum of all commodity codes] | E43: [Redacted - contains commercially sensitive information] | F43: [Redacted - contains commercially sensitive information] | G43: [Redacted - contains commercially sensitive information] | H43: [Redacted - contains commercially sensitive information] | I43: [Redacted - contains commercially sensitive information]
...

Sheet 10) Economic Interest Test
F1: Glossary
B3: Annex 10 - Economic Interest Test
B4: Case no.: | C4: =Introduction!E11 -> SG0094
B5: Company name: | C5: =Introduction!E13 -> Alpek Polyester UK
B6: POI: | C6: =Introduction!F22 -> 44197 | D6: =Introduction!H22 -> 46022
B8: Instructions:
B9: ▪ Complete the table for the most recent year of the period of investigation only.
B10: ▪ The table asks for data on the total number of Full Time Equivalent (FTE) employees for all the company and those working with the like goods only.
B11: ▪ Provide data on the number of employees for all sites and a breakdown by site. If your company has only one site, leave the rows under Breakdown by site blank.
B12: ▪ If your company has more sites than rows available in the table below, add additional rows under breakdown by site.
C14: Postcode of site | D14: Total number of employees (FTE) during the POI | E14: Number of employees working with the production of like goods (FTE) during the POI | F14: Comments
C15: [1] | D15: [2] | E15: [3] | F15: [4]
B16: All sites
B17: Total | C17: TS10 4XZ | D17: 100 | E17: 78
B18: Breakdown by site
B19: <Site name> | C19: Wilton Site | D19: 100 | E19: 78
B20: <Site name>
B24: Notes
B25: [1] | C25: Postcode where the site is located.
B26: [2] | C26: Total number of employees in Full-Time Equivalent (FTE) expresses the total number of hours worked by an organisation's employees, including both full-time and part-time. To calculate FTE, divide the total annual paid hours worked by all employees by the standard annual hours for 1 FTE. Please enter the number of employees (FTE) rounded to the nearest whole number. if you have issues with providing this information provide an estimate. If you have made an estimate, please indicate this in the comments column.
B27: [3] | C27: See [2] for how to calculate. Please note that data is needed for ONLY employees engaged in the production of the LIKE goods.
B28: [4] | C28: Add any comments how you calculated the FTE count.

Sheet Glossary
B1: =Introduction!F19 -> Confidential
B2: Glossary
B5: Term | C5: Explanation
B6: Accounting period | C6: Time frame used for financial reporting. Transactions that fall within a given date range form part of the statements or reports for that accounting period. It is often a 12-month period but there can be exceptions e.g. when a company changes its financial year end.
B7: Accounting policies | C7: Specific principles, bases, conventions, rules and practices applied by an entity in preparing and presenting financial statements.
B8: Accounting system | C8: Set of accounting processes with integrated procedures and controls which a business uses to record its basic financial transactions. Many businesses use accounting software to carry out this process.
B9: Administrative, selling and general costs (AS&G) | C9: The administration, selling and general expenses includes all selling, distribution, general and administration expenses including finance costs that would be incurred if the goods were sold for domestic consumption in the country of export. The amounts are determined in each case using all the available information and may include related expenses incurred.
B10: Amortization | C10: Gradual and periodic reduction of any amount, such as the periodic writedown of a loan or the cost of an intangible asset.
B11: Associated parties | C11: Both natural persons (individuals) and legal persons (e.g. companies) are considered to be associated where they meet the definition of ‘Related Persons’ in Regulation 128 of the Customs (Import Duty) (EU Exit) Regulations 2018.
B12: By products | C12: Products which are produced incidentally in the process of manufacturing the main products. It is not the company's goal to produce by-products, therefore they have a relatively low sales value.
B13: Complementary good | C13: Goods that are usually used / consumed together. e.g. tennis rackets and tennis balls.
B14: Consolidated accounts | C14: Set of financial statements that combine the financial information of a parent company and its subsidiaries into a single, unified report. This aggregated report details the assets, liabilities, income, and expenses of the group as one single economic entity.
B15: Cost allocation | C15: Cost allocation is the assigning of a cost to several products or departments.
B16: Cost centre | C16: A physical area or a department or function in an organisation for which costs can be related to. They do not necessarily generate revenues but incur costs for example - Assembly area, HR etc. More about this is the next session.
... B50: Trial balance | C50: A trial balance is a list of ledger balances shown in debit and credit columns. It lists the balances on ledger accounts and totals them. Total debits should equal total credits.
