Workbook

Sheet INTRODUCTION
E3: TRA Anti-Dumping Expiry review Particular Market Situation (PMS) Annex for Overseas Exporters
B10: Case details
B11: Case Number | E11: ER0090
B12: Case Name | E12: HFP Rebar from the People's Republic of China (PRC)
B13: Company Name
B14: Completed on Behalf of:
B16: Deadline
B17: Case team email | D17: ER0090@traderemedies.gov.uk
B19: Type of data being submitted | F19: Non-confidential | J19: Click on cell to the left and from the drop-down menu select either "Confidential" or "Non-confidential"
F21: Start | H21: End
B22: Period of Investigation (POI) | F22: 45658 | H22: 46022
B23: Last financial year prior to POI
B24: Injury Period (IP) | F24: 44562 | H24: 46022
B26: Units of measurement
B27: Accounting currency | I27: State your accounting currency
B28: Units of volume | I28: State the unit of volume (e.g. kg. Tonnes, metres, litres, each etc.).

Sheet Contents
A2: Contents
A5: Annex tabs | B5: Link to questionnaire main section
A6: Guidance
A7: Data sources & changes
A8: 1.) Land use rights | B8: Section E: Particular Market Situation (PMS)
A9: 2.) Energy
A10: 3.) Employment
A11: 4.) Raw materials
A12: 5.) Loans
A13: Glossary

Sheet Guidance
B2: Guidance
B5: Layout of annex tabs
B6: Each tab in the annex consists of the following items:
B7: 1 | C7: Case details table -This is a prepopulated table at the beginning of each tab. This contains the case number, company name, Period of investigation (POI( and Injury Period (IP). Please note that you do not have to complete it.
B8: 2 | C8: Instructions - This gives some basic points on how to complete the tab and the table(s) contained within it,
B9: 3 | C9: Accounting currency and /or unit of volume table - Not all tabs include this. This appears above the main data tables. This is to collect information on the units used to measure volume and value in the data table.
B10: 4 | C10: Main data table (s) - Please be aware that the table will have notes with further guidance for data that is collected. The location of the number of these Notes either appears as a column which is labelled 'Notes' or as a row underneath the main column labels. Each note is labelled [1] to [n], which can be cross-referenced to the Notes section which appear underneath the table.
B11: 5 | C11: Notes - This appears underneath the main data table. This contains further guidance on the data that needs to be provided. Each note is labelled [1] to [n], which can be cross-referenced to the main table.
B13: Links to Guidance and Legislation
B14: TRA investigation process | I14: The TRA’s investigation process - GOV.UK
B15: WTO: Anti-Dumping agreement | I15: WTO | legal texts
B16: UK: Taxation (Cross-border Trade) Act 2018: SCHEDULE 4 | I16: Taxation (Cross-border Trade) Act 2018
B17: UK: The Trade Remedies (Dumping and Subsidisation) (EU Exit) Regulations 2019 | I17: The Trade Remedies (Dumping and Subsidisation) (EU Exit) Regulations 2019
B18: TRA Public File | I18: TRA Investigations - Trade Remedies Service - GOV.UK
B20: Note on verification
B21: The TRA will seek to verify the data provided in this questionnaire and the methodology used to compile it.
B23: Please provide us with all formulae and steps used in your calculations and keep a record of these and all related material/documentation for any verification visit.
B25: It is strongly suggested that you read this whole page before progressing further.
B28: Exchange rates and currency conversion
B29: Where a currency conversion is required, we suggest you use the Bank of England exchange rate database where possible. If you use another source of Exchange rates, please use the table in the Data sources & changes tab to record where you have done so, and the rationale for doing so. | M29: GBP exchange rates | Bank of England | Database
B33: Formula and modifications
B34: If you add or modify any formula or function in the annex, record the details and rationale in the Formula and modifications table in the Data sources & changes tab. Add more lines if required.
B38: Formats
B39: Dates | E39: DD/MM/YYYY | J39: 45763
B40: Large numerical figures numbers | E40: For all numerical figures, where appropriate, express every third number with a comma. | J40: '1,300' for one-thousand three hundred, '1,300,000' for one million and three-hundred thousand
B43: Currency | E43: Limit all currency figures to two decimal places. Apply a full point as a decimal separator and use the appropriate currency symbol or abbreviation. | J43: £12345.67 USD$400.01
B49: Trial Balances
B50: If your financial year is fully aligned with the POI, this is all that is required.
B51: Where your financial period is not aligned with the POI, please provide trial balances (in original and spreadsheet form) to cover the following periods:
B53: A. the trial balance which starts from the beginning of your financial year and ends on 31 December 2024;
B55: B. the trial balance which starts from 1 January 2025 to the end of your financial year; and
B56: C. the trial balance which starts from the beginning of your following financial year and ends on 31 December 2025.
B71: Confidential and Non-Confidential Examples
B74: Redaction
B75: In many cases, redacting the information can be the simplest way of removing confidential information. This should be accompanied by a brief explanation, such as commercial sensitivity or personal details of a non-public figure.
B77: Confidential | H77: Non-confidential
B78: We use SAP accounting systems for our financial accounting, sales and production. Company expenditure is allocated as follows: 45% to region A; 30% to region B; 25% to region C. | H78: We use [redacted – commercially sensitive information] accounting systems for our financial accounting, sales and production. Company expenditure is allocated across three regions [the exact split of the allocation has been deleted for reasons of commercial sensitivity].
B84: The main inputs for our production process are steel and aluminium. We source these materials from our supplier, Company A. The terms of sales and pricing are negotiated with Company A on a transaction-by-transaction basis. | H84: The main inputs for our production process are steel and aluminium. We source these materials from [redacted – commercially sensitive information]. The terms of sales and pricing are negotiated with [redacted – commercially sensitive information] on a transaction-by-transaction basis.
B90: Legal name of company | E90: Company Ltd | H90: Legal name of company | K90: Company Ltd
B91: Legal structure | E91: Limited Company | H91: Legal structure | K91: Limited Company
...

Sheet Data sources & changes
F1: Glossary
B2: Data sources and changes
B5: Exchange rates and currency conversion
B6: Where a currency conversion is required, we suggest you use the Bank of England exchange rate database where possible. If you use another source of Exchange rates, record in this table where you in the annex you have done so, and the rationale for doing so. Add more rows if required. | F6: GBP exchange rates | Bank of England | Database
B7: Section | C7: Tab | D7: Method used | E7: Rationale | F7: Relevant Links
B8: C | C8: Imports | D8: Example: Exchange.com rates used | E8: Bank of England does not show CNY against JPY rates | F8: exchange.com/dates
B16: Formula and modifications
B17: If you add or modify any formula or function in the annex, record the details and rationale in this table. Add more rows if required.
B18: Section | C18: Tab | D18: Details | E18: Rationale
B19: C | C19: Imports

Sheet For Internal Use
A2: Retailer | B2: Independent | C2: Own product
A3: Wholesaler | B3: Associated | C3: Purchased | F3: Confidential
A4: Distributor | F4: Non-confidential
A5: End-User
A6: internal transfer
A7: Other
A12: Injury period | B12: =TEXT(INTRODUCTION!F24,"dd/mm/yyyy") &" - " & TEXT(INTRODUCTION!H24,"dd/mm/yyyy") -> 01/01/2022 - 31/12/2025
A13: Year 1 | B13: =TEXT(EDATE(INTRODUCTION!F24,-36),"dd/mm/yyyy") &" - " & TEXT(EDATE(INTRODUCTION!H24,-36),"dd/mm/yyyy") -> 01/01/2019 - 31/12/2022 | C13: -36
A14: Year 2 | B14: =TEXT(EDATE(INTRODUCTION!F24,-24),"dd/mm/yyyy") &" - " & TEXT(EDATE(INTRODUCTION!H24,-24),"dd/mm/yyyy") -> 01/01/2020 - 31/12/2023 | C14: -24
A15: Year 3 | B15: =TEXT(EDATE(INTRODUCTION!F24,-12),"dd/mm/yyyy") &" - " & TEXT(EDATE(INTRODUCTION!H24,-12),"dd/mm/yyyy") -> 01/01/2021 - 31/12/2024 | C15: -12
A16: POI | B16: =TEXT(INTRODUCTION!F22,"dd/mm/yyyy") &" - " & TEXT(INTRODUCTION!H22,"dd/mm/yyyy") -> 01/01/2025 - 31/12/2025

Sheet Land Use Rights
B1: =INTRODUCTION!F19 -> Non-confidential | I1: Glossary | J1: Contents
B3: PMS Annex 1 - Land Use Rights
B4: Case no.: | C4: =INTRODUCTION!$E11 -> ER0090
B5: Company name: | C5: =INTRODUCTION!$E13 -> 0
B6: POI | C6: ='For Internal Use'!$B16 -> 01/01/2025 - 31/12/2025
B7: Injury period (IP): | C7: ='For Internal Use'!$B12 -> 01/01/2022 - 31/12/2025
B9: Instructions
B10: ▪ Complete the table below with information concerning your land use rights.
B11: ▪ For any reference to source documents provide supporting evidence as an appendix and cite the corresponding number given to the evidence.
B12: ▪ Add more rows to the table, if needed.
B14: Accounting currency | E14: State your accounting currency
C16: Details | H16: Cost | N16: Evidence
B17: No. (1 to n) | C17: Transaction date | D17: Name of the lessor | E17: Public ownership (Y/N)? | F17: Purchase contract No. and date | G17: Area of land involved | H17: Amount paid (Accounting currency) | I17: Length of contract | J17: Transfer tax (Accounting currency) | K17: Business rates paid for each LUR during POI (currency) | L17: Land tax paid for each LUR during POI (currency) | M17: Amortisation paid for each LUR during POI (if applicable) | N17: Supporting evidence (cite appendix number(s))
G18: (Specify unit: m², acres, hectares) | I18: (months)
C19: [1] | D19: [2] | E19: [3] | F19: [4] | G19: [5] | H19: [6] | I19: [7] | J19: [8] | K19: [9] | L19: [10] | M19: [11] | N19: [12]
B26: Notes:
B27: [1] | C27: Date of the transaction as appearing on any contract signed.
B28: [2] | C28: Name of the legal entity (individual, company, or organization) who leases or lets a property to another; a landlord.
B29: [3] | C29: If the land is publicly owned enter Y, if not enter N.
B30: [4] | C30: Date when the land was purchased and the contract number.
B31: [5] | C31: State the area of land owned. Clearly state the unit used e.g. m², acres, hectares etc.
B32: [6] | C32: Amount paid in your accounting currency.
B33: [7] | C33: Specify the length of the contract in months.
B34: [8] | C34: Transfer tax is a tax imposed by a government on the passing of a title to property from one person or entity to another. Specify the transfer tax paid when the property/land was acquired.
B35: [9] | C35: Business tax paid for each Land Use Right (LUR) over the Period of Investigation (POI).
B36: [10] | C36: Refers to the land tax paid for each Land Use Right (LUR) over the POI.
B37: [11] | C37: Amortisation of land use rights typically involves spreading the cost of acquiring the right to use land over its useful life. Enter a value if applicable.
B38: [12] | C38: Cite the appendix number(s) for any supporting evidence provided.
B39: Notes:
B40: [1] | C40: Date of the transaction as appearing on any contract signed.
B41: [2] | C41: Name of the legal entity (individual, company, or organization) who leases or lets a property to another; a landlord.
B42: [3] | C42: If the land is publicly owned enter Y, if not enter N.
B43: [4] | C43: Date when the land was purchased and the contract number.
B44: [5] | C44: State the area of land owned. Clearly state the unit used e.g. m², acres, hectares etc.
B45: [6] | C45: Amount paid in your accounting currency.
B46: [7] | C46: Specify the length of the contract in months.
B47: [8] | C47: Transfer tax is a tax imposed by a government on the passing of a title to property from one person or entity to another. Specify the transfer tax paid when the property/land was acquired.
B48: [9] | C48: Business tax paid for each Land Use Right (LUR) over the Period of Investigation (POI).
B49: [10] | C49: Refers to the land tax paid for each Land Use Right (LUR) over the POI.
B50: [11] | C50: Amortisation of land use rights typically involves spreading the cost of acquiring the right to use land over its useful life. Enter a value if applicable.
...

Sheet Energy
B1: =INTRODUCTION!F19 -> Non-confidential | I1: Glossary | J1: Contents
B4: PMS Annex 2 - Energy
B5: Case no.: | C5: =INTRODUCTION!$E11 -> ER0090
B6: Company name: | C6: =INTRODUCTION!$E13 -> 0
B7: POI | C7: ='For Internal Use'!$B16 -> 01/01/2025 - 31/12/2025
B8: Injury period (IP): | C8: ='For Internal Use'!$B12 -> 01/01/2022 - 31/12/2025
B10: Instructions
B11: ▪ Complete the table below with information concerning all your energy costs during the POI.
B12: ▪ For any source documents used, provide supporting evidence as an appendix and cite the corresponding number given to the evidence.
B13: ▪ Add more rows to the table, if needed.
B15: Accounting currency | E15: State your accounting currency
C17: Programme information | H17: Costs | M17: Evidence
B18: No. (1 to n) | C18: Invoice number | D18: Energy Type (e.g. electricity, gas) | E18: Invoice date | F18: Start date of energy provision | G18: End date of energy provision | H18: Unit (e.g. kWh, m3) | I18: Total usage (units) | J18: Total invoice amount (currency) | K18: Total energy cost excluding additional fees (currency) | L18: Unit price for energy | M18: Supporting evidence (cite appendix number(s))
B19: [1] | C19: [2] | D19: [3] | E19: [4] | F19: [5] | G19: [6] | H19: [7] | I19: [8] | J19: [9] | K19: [10] | L19: [11] | M19: [12]
L20: =IF(I20,K20/I20,"-") -> -
L21: =IF(I21,K21/I21,"-") -> -
L22: =IF(I22,K22/I22,"-") -> -
L23: =IF(I23,K23/I23,"-") -> -
B25: Notes:
B26: [1] | C26: Add a number to the corresponding transaction.
B27: [2] | C27: Enter the invoice number.
B28: [3] | C28: This refers to the type of energy being invoiced e.g. electricity, gas etc.
B29: [4] | C29: Date of Invoice.
B30: [5] | C30: Start date of energy usage covered by the invoice.
B31: [6] | C31: End date of energy usage covered by the invoice.
B32: [7] | C32: Unit used to invoice the energy usage e.g. Kilowatt-hour (kWh), Cubic metres (m3). State the unit.
B33: [8] | C33: Total usage of energy. Specify the units used e.g. kWh.
B34: [9] | C34: Total amount invoiced for the energy use in your accounting currency.
B35: [10] | C35: Exclude any additional fees
B36: [11] | C36: Automatically calculated - Do NOT enter anything here.
B37: [12] | C37: Cite the appendix number(s) for any supporting evidence provided.

Sheet Employment
B1: =INTRODUCTION!F19 -> Non-confidential | I1: Glossary | J1: Contents
B4: PMS Annex 3 - Employment
B5: Case no.: | C5: =INTRODUCTION!$E11 -> ER0090
B6: Company name: | C6: =INTRODUCTION!E13 -> 0
B7: POI | C7: ='For Internal Use'!B16 -> 01/01/2025 - 31/12/2025
B8: Injury period (IP): | C8: ='For Internal Use'!B12 -> 01/01/2022 - 31/12/2025
B10: Instructions
B11: ▪ Complete the table below with information concerning the hours worked and labour costs information of your employees by type of job.
B12: ▪ Cells highlighted in yellow are automatically calculated.
B13: ▪ For any reference source documents used, provide supporting evidence as an appendix and cite the corresponding number given to the evidence.
B14: ▪ Add more rows, if necessary within the table or copy an existing row to the end of the table.
B16: Accounting currency | E16: State your accounting currency
C18: Employment information | K18: Evidence
B19: No. (1 to n) | C19: Job title | D19: Total Annual paid hours | E19: Standard Annual hours for 1 FTE | F19: Number of employees (FTE) | G19: Total Annual cost | H19: Annual unproductive hours | I19: Annual Productive hours [3]-[7] | J19: Productive hourly cost (currency) [6]/[8] | K19: Supporting evidence (cite appendix number(s))
B20: [1] | C20: [2] | D20: [3] | E20: [4] | F20: [5] | G20: [6] | H20: [7] | I20: [8] | J20: [9] | K20: [10]
B21: 1 | C21: test job | D21: 6000 | E21: 1924 | F21: =IF(E21>0,D21/E21, "-") -> 3.1185031 | G21: 60000 | H21: 500 | I21: =IF(D21>0,D21-H21,"-") -> 5500 | J21: =IF(G21,G21/I21,"-") -> 10.909091
B22: 2 | F22: =IF(E22>0,D22/E22, "-") -> - | I22: =IF(D22>0,D22-H22,"-") -> - | J22: =IF(G22,G22/I22,"-") -> -
B23: 3 | F23: =IF(E23>0,D23/E23, "-") -> - | I23: =IF(D23>0,D23-H23,"-") -> - | J23: =IF(G23,G23/I23,"-") -> -
B24: 4 | F24: =IF(E24>0,D24/E24, "-") -> - | I24: =IF(D24>0,D24-H24,"-") -> - | J24: =IF(G24,G24/I24,"-") -> -
B25: 5 | F25: =IF(E25>0,D25/E25, "-") -> - | I25: =IF(D25>0,D25-H25,"-") -> - | J25: =IF(G25,G25/I25,"-") -> -
B26: 6 | F26: =IF(E26>0,D26/E26, "-") -> - | I26: =IF(D26>0,D26-H26,"-") -> - | J26: =IF(G26,G26/I26,"-") -> -
B27: 7 | F27: =IF(E27>0,D27/E27, "-") -> - | I27: =IF(D27>0,D27-H27,"-") -> - | J27: =IF(G27,G27/I27,"-") -> -
B28: 8 | F28: =IF(E28>0,D28/E28, "-") -> - | I28: =IF(D28>0,D28-H28,"-") -> - | J28: =IF(G28,G28/I28,"-") -> -
B29: 9 | F29: =IF(E29>0,D29/E29, "-") -> - | I29: =IF(D29>0,D29-H29,"-") -> - | J29: =IF(G29,G29/I29,"-") -> -
B30: 10 | F30: =IF(E30>0,D30/E30, "-") -> - | I30: =IF(D30>0,D30-H30,"-") -> - | J30: =IF(G30,G30/I30,"-") -> -
B34: Notes:
B35: [1] | C35: Add a number for each job name.
B36: [2] | C36: Job Title given to the person by your organisation.
B37: [3] | C37: Includes Base hours + overtime + any additional hours worked and recorded.
B38: [4] | C38: Standard annual hours worked for 1 Full-Time Equivalent (FTE). Calculate as standard hours worked x52 weeks, e.g. 37x52=1,924 hours per year.
B39: [5] | C39: Automatically calculated - Do NOT enter anything here. Calculated as Total Annual paid hours divided by Standard Annual hours for 1 FTE so [3]/[4].
B40: [6] | C40: Includes gross Annual salary (Base wages), employer costs (pension, social insurance, payroll taxes) and other benefits (bonuses, allowances etc.) and overtime paid and recorded for all employees in the job title.
B41: [7] | C41: Includes sickness, holidays, meetings, admin, downtime etc. The data should be for all employees in the job title.
B42: [8] | C42: Automatically calculated - Do NOT enter anything here. Calculated as total paid hours less non-productive hours.
B43: [9] | C43: Automatically calculated - Do NOT enter anything here. Productive hourly cost = Total Annual Cost/ Annual productive hours.
B44: [10] | C44: Brief description of any supporting evidence and cite the appendix number(s) for any supporting evidence provided.

Sheet Raw Materials
B1: =INTRODUCTION!F19 -> Non-confidential | J1: Glossary | K1: Contents
B4: PMS Annex 4 - Raw Materials and inputs
B5: Case no.: | C5: =INTRODUCTION!E11 -> ER0090
B6: Company name: | C6: =INTRODUCTION!E13 -> 0
B7: POI | C7: ='For Internal Use'!B16 -> 01/01/2025 - 31/12/2025
B8: Injury period (IP): | C8: ='For Internal Use'!B12 -> 01/01/2022 - 31/12/2025
B10: Instructions
B11: ▪ Complete the table below concerning all raw materials and inputs purchased during the Period of Investigation (POI).
B12: ▪ Cells highlighted in yellow are automatically calculated based on the data that you provide.
B13: ▪ For any reference source documents used, provide supporting evidence as an appendix and cite the corresponding number given to the evidence.
B14: ▪ Add more rows to the table, if needed.
C17: Raw material input information | L17: Evidence | M17: Raw material / input description
B18: No. (1 to n) | C18: Raw material/ input type | D18: HS code (if known) | E18: Invoice number | F18: Total cost of raw material/input | G18: Country of purchase | H18: Currency | I18: Volume | J18: Units used in [6] | K18: Cost per unit | L18: Supporting evidence (cite appendix number(s)) | M18: Description
C19: [1] | D19: [2] | E19: [3] | F19: [4] | G19: [5] | H19: [6] | I19: [7] | J19: [8] | K19: [9] | L19: [10] | M19: [11]
K20: =IF(F20,F20/I20,"-") -> -
K21: =IF(F21,F21/I21,"-") -> -
K22: =IF(F22,F22/I22,"-") -> -
K23: =IF(F23,F23/I23,"-") -> -
B25: Notes:
B26: [1] | C26: Specify the type of raw material and / or input being purchased.
B27: [2] | C27: This relates to the Harmonized System (HS) or Commodity codes.
B28: [3] | C28: Enter the invoice number.
B29: [4] | C29: Total cost of the raw material invoiced in the transaction. The costs should be expressed in your accounting currency.
B30: [5] | C30: State the country of purchase
B31: [6] | C31: Currency used to invoice the transaction. (e.g. EUR, USD, DKK, GBP etc.)
B32: [7] | C32: This relates to the total volume of the transaction.
B33: [8] | C33: Specify the unit to measure the volume of the transaction in [6] e.g. kg, Tonnes, Metric Tonnes, Litres etc.
B34: [9] | C34: Automatically calculated. This refers to [4] / [6]
B35: [10] | C35: Brief description of any supporting evidence and cite the appendix number(s) for any supporting evidence provided.
B36: [11] | C36: Give a brief description of the raw material you entered in [1]

Sheet Loans
B1: =INTRODUCTION!F19 -> Non-confidential | I1: Glossary | J1: Contents
B4: PMS Annex 5 - Loans
B5: Case no.: | C5: =INTRODUCTION!E11 -> ER0090
B6: Company name: | C6: =INTRODUCTION!E13 -> 0
B7: POI | C7: ='For Internal Use'!B16 -> 01/01/2025 - 31/12/2025
B8: Injury period (IP): | C8: ='For Internal Use'!B12 -> 01/01/2022 - 31/12/2025
B10: Instructions
B11: ▪ Complete the table for any loans in existence during the Period of Investigation (POI).
B12: ▪ For any reference source documents used, provide supporting evidence as an appendix and cite the corresponding number given to the evidence.
C15: Loan information | I15: Loan and interest amounts | P15: Evidence
B16: No. (1 to n) | C16: Loan name | D16: Type of loan | E16: Is it export contingent Yes(Y) or No(N)? | F16: Is the loan fully repaid at end of POI? | G16: Loan recipient | H16: Name of bank/ institution/persons providing the loan | I16: Loan start date | J16: Principal amount of loan | K16: Currency | L16: Repayable date | M16: Interest type (fixed/variable) | N16: If variable, please explain terms | O16: Interest rate (%) | P16: Supporting evidence (cite appendix number(s))
C17: [1] | D17: [2] | E17: [3] | F17: [4] | G17: [5] | H17: [6] | I17: [7] | J17: [8] | K17: [9] | L17: [10] | M17: [11] | N17: [12] | O17: [13] | P17: [14]
B23: Notes:
B24: [1] | C24: Name of loan as it appears in the loan agreement.
B25: [2] | C25: Specify the type of loan e.g. secured, unsecured, short-term, long-term etc.
B26: [3] | C26: If the loan is dependent on, or contingent on the act of exporting goods enter Y for yes. If not then enter N for no.
B27: [4] | C27: If there are no repayments on the loan remaining at the end of the POI state "Y", if not, "N" for no.
B28: [5] | C28: Full name of the loan recipient.
B29: [6] | C29: Name of the bank / institution, or individual providing the loans.
B30: [7] | C30: Start date of the loan.
B31: [8] | C31: Original sum of money that's borrowed in a loan. The amount should be expressed in your accounting currency.
B32: [9] | C32: Currency in which the loan is made.
B33: [10] | C33: Date for repayment of the loan.
B34: [11] | C34: Type of interest rate type paid on the loan (Fixed or variable). Fixed interest rates remain constant throughout the loan term. A variable interest rate can fluctuate during the loan term, often tied to a benchmark interest rate.
B35: [12] | C35: If you have specified variable in [11], please explain the terms.
... B37: [14] | C37: Brief description of any supporting evidence and cite the appendix number(s) for any supporting evidence provided.

Sheet Glossary
B1: =INTRODUCTION!F19 -> Non-confidential | J1: Contents | L1: Contents
B3: Glossary
B6: Term | C6: Explanation
B7: Accounting period | C7: Time frame used for financial reporting. Transactions that fall within a given date range form part of the statements or reports for that accounting period. It is often a 12-month period but there can be exceptions e.g. when a company changes its financial year end.
B8: Accounting policies | C8: Specific principles, bases, conventions, rules and practices applied by an entity in preparing and presenting financial statements.
B9: Accounting system | C9: Set of accounting processes with integrated procedures and controls which a business uses to record its basic financial transactions. Many businesses use accounting software to carry out this process.
B10: Administrative, selling and general costs (AS&G) | C10: The administration, selling and general expenses includes all selling, distribution, general and administration expenses including finance costs that would be incurred if the goods were sold for domestic consumption in the country of export. The amounts are determined in each case using all the available information and may include related expenses incurred.
B11: Amortization | C11: Gradual and periodic reduction of any amount, such as the periodic writedown of a loan or the cost of an intangible asset.
B12: Associated parties | C12: Both natural persons (individuals) and legal persons (e.g. companies) are considered to be associated where they meet the definition of ‘Related Persons’ in Regulation 128 of the Customs (Import Duty) (EU Exit) Regulations 2018.
B13: By products | C13: Products which are produced incidentally in the process of manufacturing the main products. It is not the company's goal to produce by-products, therefore they have a relatively low sales value.
B14: Complementary good | C14: Goods that are usually used/ consumed together. e.g. tennis rackets and tennis balls.
B15: Consolidated accounts | C15: Set of financial statements that combine the financial information of a parent company and its subsidiaries into a single, unified report. This aggregated report details the assets, liabilities, income, and expenses of the group as one single economic entity.
B16: Cost allocation | C16: Cost allocation is the assigning of a cost to several products or departments.
B17: Cost centre | C17: A physical area or a department or function in an organisation for which costs can be related to. They do not necessarily generate revenues but incur costs for example - Assembly area, HR etc. More about this is the next session.
... B56: Trial balance | C56: A trial balance is a list of ledger balances shown in debit and credit columns. It lists the balances on ledger accounts and totals them. Total debits should equal total credits.
