Workbook
Name ASGHeaders: #REF!
Name ASGPCNs: #REF!
Name AssociatedSalesCompanyProfit: #REF!
Name CostPeriodSetup: #REF!
Name CTMHeaders: #REF!
Name CTMPCNs: #REF!
Name EPCreditRate: #REF!
Name ImporterProfit: #REF!
Name NVCreditRate: #REF!
Name PMSSetup: #REF!
Name POIEnd: #REF!
Name POIStart: #REF!
Name q103k: #REF!
Name q104k: #REF!
Name q105k: #REF!
Name q106k: #REF!
Name q107k: #REF!
Name q181a: #REF!
Name q181b: #REF!
Name q203k: #REF!
Name q204k: #REF!
Name q205k: #REF!
Name q206k: #REF!
Name q207k: #REF!
Name q208k: #REF!
Name q209k: #REF!
Name q210k: #REF!
Name q211k: #REF!
Name q212k: #REF!
Name q213k: #REF!
Name q214k: #REF!
Name q215a: #REF!
Name q215b: #REF!
Name q217a: #REF!
Name q217b: #REF!
Name q219a: #REF!
Name q219b: #REF!
Name q219c: #REF!
Name q219d: #REF!
Name q219e: #REF!
Name q219f: #REF!
Name q219g: #REF!
Name q219h: #REF!
Name q219i: #REF!
Name q219j: #REF!
Name q219k: #REF!
Name q219l: #REF!
Name q219m: #REF!
Name q219n: #REF!
Name q219o: #REF!
Name q220a: #REF!
Name q220b: #REF!
Name q221a: #REF!
Name q221b: #REF!
Name q222a: #REF!
Name q222b: #REF!
Name q226a: #REF!
Name q226b: #REF!
Name q227a: #REF!
Name q227b: #REF!

Sheet INTRODUCTION
E3: TRA Anti-Dumping Expiry review Annex for Overseas Exporters
B10: Case details
B11: Case Number | E11: ER0090
B12: Case Name | E12: HFP Rebar from the People's Republic of China (PRC)
B13: Company Name
B14: Completed on Behalf of:
B16: Deadline
B17: Case team email | D17: ER0090@traderemedies.gov.uk
B19: Type of data being submitted | F19: Non-confidential | J19: Click on cell to the left and from the drop-down menu select either "Confidential" or "Non-confidential"
F21: Start | H21: End
B22: Period of Investigation (POI) | F22: 45658 | H22: 46022
B23: Last financial year prior to POI
B24: Injury Period (IP) | F24: 44562 | H24: 46022
B26: Accounting currency | G26: State your accounting currency
B27: Units of Volume | G27: State your accounting volume

Sheet Contents
E1: Glossary
A2: Contents
A5: Section | B5: Annex tabs | C5: Link to questionnaire main section | D5: Sub-section of questionnaire
A6: - | B6: Guidance | C6: - | D6: -
A7: - | B7: Data sources & changes | C7: - | D7: -
A8: A | B8: Organisational structure | C8: Section A: Company structure and operations | D8: A3 Organisational structure
A9: B | B9: Your goods | C9: Section B: Understanding your goods
A10: C | B10: Sales | C10: Section C: Sales | D10: C1: Sales reconciliation
B11: Income statement | D11: C3: Statement of profit and loss and other comprehensive income
B12: Capacity | D12: C4: Capacity
B13: Stock | D13: C5: Stock
A14: - | B14: Glossary | C14: - | D14: -

Sheet Guidance
B2: Guidance
B5: Layout of annex tabs
B6: Each tab in the annex consists of the following items:
B7: 1 | C7: Case details table - This is a prepopulated table at the beginning of each tab. This contains the case number, company name, Period of investigation (POI( and Injury Period (IP). Please note that you do not have to complete it.
B8: 2 | C8: Instructions - This gives some basic points on how to complete the tab and the table(s) contained within it,
B9: 3 | C9: Accounting currency and /or unit of volume table - Not all tabs include this. This appears above the main data tables. This is to collect information on the units used to measure volume and value in the data table.
B10: 4 | C10: Main data table (s) - Please be aware that the table will have notes with further guidance for data that is collected. The location of the number of these Notes either appears as a column which is labelled 'Notes' or as a row underneath the main column labels. Each note is labelled [1] to [n], which can be cross-referenced to the Notes section which appear underneath the table.
B11: 5 | C11: Notes - This appears underneath the main data table. This contains further guidance on the data that needs to be provided. Each note is labelled [1] to [n], which can be cross-referenced to the main table.
B13: Links to Guidance and Legislation
B14: TRA investigation process | I14: The TRA’s investigation process - GOV.UK
B15: WTO: Anti-Dumping agreement | I15: WTO | legal texts
B16: UK: Taxation (Cross-border Trade) Act 2018: SCHEDULE 4 | I16: Taxation (Cross-border Trade) Act 2018
B17: UK: The Trade Remedies (Dumping and Subsidisation) (EU Exit) Regulations 2019 | I17: The Trade Remedies (Dumping and Subsidisation) (EU Exit) Regulations 2019
B18: TRA Public File | I18: TRA Investigations - Trade Remedies Service - GOV.UK
B20: Note on verification
B21: The TRA will seek to verify the data provided in this questionnaire and the methodology used to compile it.
B23: Please provide us with all formulae and steps used in your calculations and keep a record of these and all related material/documentation for any verification visit.
B25: It is strongly suggested that you read this whole page before progressing further.
B28: Exchange rates and currency conversion
B29: Where a currency conversion is required, we suggest you use the Bank of England exchange rate database where possible. If you use another source of Exchange rates, please use the table in the Data sources & changes tab to record where you have done so, and the rationale for doing so. | M29: GBP exchange rates | Bank of England | Database
B33: Formula and modifications
B34: If you add or modify any formula or function in the annex, record the details and rationale in the Formula and modifications table in the Data sources & changes tab. Add more lines if required.
B38: Formats
B39: Dates | E39: DD/MM/YYYY | J39: 45763
B40: Large numerical figures numbers | E40: For all numerical figures, where appropriate, express every third number with a comma. | J40: '1,300' for one-thousand three hundred, '1,300,000' for one million and three-hundred thousand
B43: Currency | E43: Limit all currency figures to two decimal places. Apply a full point as a decimal separator and use the appropriate currency symbol or abbreviation. | J43: £12345.67 USD$400.01
B49: Trial Balances
B50: If your financial year is fully aligned with the POI, this is all that is required.
B51: Where your financial period is not aligned with the POI, please provide trial balances (in original and spreadsheet form) to cover the following periods:
B53: A. the trial balance which starts from the beginning of your financial year and ends on 31 December 2024;
B55: B. the trial balance which starts from 1 January 2025 to the end of your financial year; and
B56: C. the trial balance which starts from the beginning of your following financial year and ends on 31 December 2025.
B71: Confidential and Non-Confidential Examples
B74: Redaction
B75: In many cases, redacting the information can be the simplest way of removing confidential information. This should be accompanied by a brief explanation, such as commercial sensitivity or personal details of a non-public figure.
B77: Confidential | H77: Non-confidential
B78: We use SAP accounting systems for our financial accounting, sales and production. Company expenditure is allocated as follows: 45% to region A; 30% to region B; 25% to region C. | H78: We use [redacted – commercially sensitive information] accounting systems for our financial accounting, sales and production. Company expenditure is allocated across three regions [the exact split of the allocation has been deleted for reasons of commercial sensitivity].
B84: The main inputs for our production process are steel and aluminium. We source these materials from our supplier, Company A. The terms of sales and pricing are negotiated with Company A on a transaction-by-transaction basis. | H84: The main inputs for our production process are steel and aluminium. We source these materials from [redacted – commercially sensitive information]. The terms of sales and pricing are negotiated with [redacted – commercially sensitive information] on a transaction-by-transaction basis.
B90: Legal name of company | E90: Company Ltd | H90: Legal name of company | K90: Company Ltd
B91: Legal structure | E91: Limited Company | H91: Legal structure | K91: Limited Company
...

Sheet Data sources & changes
F1: Glossary
A2: Data sources and changes
B5: Exchange rates and currency conversion
B6: Where a currency conversion is required, we suggest you use the Bank of England exchange rate database where possible. If you use another source of Exchange rates, record in this table where you in the annex you have done so, and the rationale for doing so. Add more rows if required. | F6: GBP exchange rates | Bank of England | Database
B7: Section | C7: Tab | D7: Method used | E7: Rationale | F7: Relevant Links
B8: C | C8: Imports | D8: Example: Exchange.com rates used | E8: Bank of England does not show CNY against JPY rates | F8: exchange.com/dates
B16: Formula and modifications
B17: If you add or modify any formula or function in the annex, record the details and rationale in this table. Add more rows if required.
B18: Section | C18: Tab | D18: Details | E18: Rationale
B19: C | C19: Imports

Sheet Organisational structure
B1: =INTRODUCTION!F19 -> Non-confidential | I1: Glossary | J1: Contents
B3: Organisational Structure
B4: Case no.: | C4: =INTRODUCTION!$E11 -> ER0090
B5: Company name: | C5: =INTRODUCTION!$E13 -> 0
B6: POI: | C6: ='Internal use'!$B9 -> 01/01/2025 - 31/12/2025
B7: Injury period (IP): | C7: ='Internal use'!$B5 -> 01/01/2022 - 31/12/2025
B9: Instructions
B10: ▪ This tab contains two tables:
B11: - Table A: Parent or controlling company - Complete this table if your company is a subsidiary of another company.
B12: - Table B: Organisational structure - Complete this table for all associated companies, if your company has any associated companies.
B13: ▪ The first row has been entered as an example - please delete before submission.
B14: ▪ Table B add more rows if necessary.
B16: Table A: Parent or controlling company
E17: Parent company | G17: Ultimate controlling company
B18: Name
B19: Registration number / country of registration
B22: Table B: Organisational structure
B23: General Information | I23: Activities | J23: Shareholding
B24: Company name | C24: Is the associated company involved in the production, sale, or distribution of the like good? | D24: Address | E24: Company representative and role | F24: Representative email | G24: Representative telephone (Include country code in parenthesis) | H24: Relationship to exporter | I24: List activities | J24: Percentage shareholding in the associated company | K24: Percentage shareholding held by associated company in your company
B25: [1] | C25: [2] | D25: [3] | E25: [4] | F25: [5] | G25: [6] | H25: [7] | I25: [8] | J25: [9] | K25: [10]
B26: Example
B41: Notes
B42: [1] | C42: Full name of the company under which the company is registered.
B43: [2] | C43: Enter either 'Yes' or 'No'.
B44: [3] | C44: Registered office address of the associated company, include country.
B45: [4] | C45: Name of the company representative or contact point and his/her role in the company.
B46: [5] | C46: Email of the company representative.
B47: [6] | C47: Telephone number of the company representative including the country code.
B48: [7] | C48: Briefly explain the relationship of the company to the exporter.
B49: [8] | C49: The principal activities of the company should be listed here.
B50: [9] | C50: If your company holds shares in the associated company, please state here the percentage of the associated company's shares held by your company.
B51: [10] | C51: If an associated company holds shares in your company, please state here the percentages of your company's shares held by the associated company.

Sheet Your goods
B1: =INTRODUCTION!F19 -> Non-confidential | H1: Glossary | I1: Contents
B3: Your goods
B4: Case no.: | C4: =INTRODUCTION!$E11 -> ER0090
B5: Company name: | C5: =INTRODUCTION!$E13 -> 0
B6: POI: | C6: ='Internal use'!$B9 -> 01/01/2025 - 31/12/2025
B7: Injury period (IP): | C7: ='Internal use'!$B5 -> 01/01/2022 - 31/12/2025
B9: Instructions
B10: ▪ Complete the table below for all like goods and goods subject to review identified for both your domestic and export markets.
B11: ▪ If there are a number of models within each PCN then please list each PCN/model separately (or by similar group of models) so as to provide meaningful characteristics.
B12: ▪ If an associated company produces or sells the like goods and/or goods subject to review, indicate their name in the associated party column, otherwise write not applicable (N/A).
B15: Like goods your company produces | F15: Goods characteristics | H15: Goods similarities | J15: Comments
B16: PCN | C16: Internal code or equivalent | D16: Commodity code | E16: Associated party that produced the goods, if applicable | F16: Physical characteristics of your company’s goods | G16: Commercial characteristics of your company’s goods | H16: Identical to the like goods produced in the UK? (Yes/No) | I16: If [7] = No. Explain any physical/commercial differences and if they cause distinguishable price variations.
B17: [1] | C17: [2] | D17: [3] | E17: [4] | F17: [5] | G17: [6] | H17: [7] | I17: [8] | J17: [9]
B35: Notes
B36: [1] | C36: Refers to the Product Control Number (PCN) your company produces.
B37: [2] | C37: Internal company code of the product in your system.
B38: [3] | C38: Refers to the commodity code your company produces.
B39: [4] | C39: If an associated company produces or sells the good listed in Columns [1] and [2], state its name. If is no associated company insert not applicable (N/A).
B40: [5] | C40: Physical characteristics to consider include: age; appearance; chemical composition; contents; grade/standards; purity/yield; quality; size/dimensions; strength; taste; weight.
B41: [6] | C41: Commercial characteristics to consider include: end use; distribution channels; identity of customers; whether the products compete directly in the UK market; price differences.
B42: [7] | C42: Answer YES if your goods and the like goods produced in the UK are identical in term of characteristics and NO if they are not.
B43: [8] | C43: If the answer is 'no' to [6], explain: ▪ the differences; ▪ whether and how they cause distinguishable variations in price; and, ▪ any other effects those differences have. Attach any evidence you have that is relevant.
B44: [9] | C44: If you have any further information you wish to supply, include with references to any attachments.

Sheet Sales
B1: =INTRODUCTION!F19 -> Non-confidential | G1: Glossary | H1: Contents
B3: Sales of the like goods and goods subject to review
B4: Case no.: | C4: =INTRODUCTION!$E11 -> ER0090
B5: Company name: | C5: =INTRODUCTION!$E13 -> 0
B6: POI: | C6: ='Internal use'!$B9 -> 01/01/2025 - 31/12/2025
B7: Injury period (IP): | C7: ='Internal use'!$B5 -> 01/01/2022 - 31/12/2025
B9: Instructions
B10: ▪ Complete both tables for the Period of Investigation (POI):
B11: - Table A: Sales value of goods subject to review and / or like goods during the POI broken down by country of destination (including domestic sales) and PCN
B12: - Table B: Sales volume of goods subject to review and / or like goods during the POI broken down by country of destination (including domestic sales) and PCN
B13: ▪ Data in Tables A and B are collected by Country of destination as follows:
B14: (1.) Domestic sales refers to sales of the like goods on the domestic market. Sales to the UK and all other countries are excluded.
B15: (2.) Exports to the UK refer to sales of the goods subject to review / like goods to the UK. Sales to the domestic market and to all other countries are excluded.
B16: (3.) Exports to third countries refer to sales of the like goods to all other countries excluding the domestic market and the UK.
B17: (4.) Exports to Top 5 third countries - Report your sales for the Top 5 third countries in value and volume terms during the POI. Replace 'Country 1…' with the name of the country.
B18: ▪ Include all your sales net of returns/credit notes for the like goods made during the POI. Include the like goods both produced and purchased for resale.
B19: ▪ Enter financial information totals in your accounting currency.
B20: ▪ If an associated company is involved in the sale of your product , complete Exporter Annex II - Associated Companies.
... B23: Table A: Sales value of goods subject to review and / or like goods during the POI by country of destination
B25: Accounting currency | D25: State your accounting currency
G26: Ex-works value
B27: Country of destination | C27: Ex-Works Goods Value | D27: Revenue Recognised | E27: Source Documents | F27: Comments | G27: PCN1 | H27: PCN2 | I27: PCN3 | J27: PCN4 | K27: PCN5 | L27: PCN6 | M27: PCN7 | N27: PCN8 | O27: PCN9 | P27: PCN10 | Q27: Add more PCN's if required
C28: [1] | D28: [2] | E28: [3] | F28: [4]
B29: (1) Domestic sales (like goods)
B30: (2.) Exports to the UK (goods subject to review)
B31: (3.) Exports to third countries (like goods)
B32: (4.) Exports to Top 5 third countries
B33: Country 1 (state country)
B34: Country 2 (state country)
B35: Country 3 (state country)
B36: Country 4 (state country)
B37: Country 5 (state country)
B40: Table B: Sales volume of goods subject to review and / or like goods during the POI by country of destination
B42: Units of volume | D42: State the unit of volume (e.g. kg. Tonnes, metres, litres each etc.).
B44: Country of destination | C44: Volume | D44: Source Documents | E44: Comments | F44: PCN1 | G44: PCN2 | H44: PCN3 | I44: PCN4 | J44: PCN5 | K44: PCN5 | L44: PCN6 | M44: PCN7 | N44: PCN8 | O44: PCN9 | P44: PCN10 | Q44: Add more PCN's if required
B45: (1) Domestic sales (like goods)
B46: (2.) Exports to the UK (goods subject to review)
B47: (3.) Exports to third countries (like goods)
B48: (4.) Exports to Top 5 third counties
B49: Country 1 (state country)
...

Sheet Income statement
B1: =INTRODUCTION!F19 -> Non-confidential | I1: Glossary | J1: Contents
B3: Income statement
B4: Case no.: | D4: =INTRODUCTION!$E11 -> ER0090
B5: Company name: | D5: =INTRODUCTION!$E13 -> 0
B6: POI: | D6: ='Internal use'!$B9 -> 01/01/2025 - 31/12/2025
B7: Injury period (IP): | D7: ='Internal use'!$B5 -> 01/01/2022 - 31/12/2025
B9: Instructions
B10: ▪ Complete the table below for all the entire Injury Period (IP). Note that the years have been auto populated.
B11: ▪ Please note that profit before tax is the key consideration for this tab.
B12: ▪ Input all sales, cost of sales, AS&G expenses, and interest income and extraordinary/exceptional gains as positive.
B13: ▪ Input interest expense and extraordinary or exceptional losses figures as negative.
B14: ▪ Note: the sources document column only relates to the POI only. This column can be found in Column P.
B15: ▪ If you have any notes regarding the data you supplied, leave a comment in the Column (Col[Q] - "Comments").
B16: ▪ Do not input data into the cells coloured yellow. The cells coloured yellow are automatically calculated.
B18: Accounting currency | F18: State your accounting currency
D20: Injury Period (Years)
B21: Notes | D21: ='Internal use'!B6 -> 01/01/2022 - 31/12/2022 | G21: ='Internal use'!B7 -> 01/01/2023 - 31/12/2023 | J21: ='Internal use'!B8 -> 01/01/2024 - 31/12/2024 | M21: ='Internal use'!B9 -> 01/01/2025 - 31/12/2025
D22: All goods | E22: Like goods sold domestically | F22: Goods subject to review/like goods export | G22: All goods | H22: Like goods sold domestically | I22: Goods subject to review/like goods export | J22: All goods | K22: Like goods sold domestically | L22: Goods subject to review/like goods export | M22: All goods | N22: Like goods sold domestically | O22: Goods subject to review/like goods export | P22: Source Documents for POI only | Q22: Comments
B23: [1] | C23: Gross sales
B24: [2] | C24: Sales returns, rebates and discounts
B25: [3] | C25: Net sales | D25: =D23-D24 -> 0 | E25: =E23-E24 -> 0 | F25: =F23-F24 -> 0 | G25: =G23-G24 -> 0 | H25: =H23-H24 -> 0 | I25: =I23-I24 -> 0 | J25: =J23-J24 -> 0 | K25: =K23-K24 -> 0 | ... O25: =O23-O24 -> 0
B26: [4] | C26: Raw materials
B27: [5] | C27: Direct labour
B28: [6] | C28: Depreciation
B29: [7] | C29: Manufacturing overheads
B30: [8] | C30: Other operating expenses
B31: [3] | C31: Total cost of sales | D31: 0 | E31: =SUM(E26:E30) -> 0 | F31: =SUM(F26:F30) -> 0 | G31: =SUM(G26:G30) -> 0 | H31: =SUM(H26:H30) -> 0 | I31: =SUM(I26:I30) -> 0 | J31: =SUM(J26:J30) -> 0 | K31: =SUM(K26:K30) -> 0 | L31: =SUM(L26:L30) -> 0 | ... O31: =SUM(O26:O30) -> 0
B32: [3] | C32: Gross Profit | D32: =D25-D31 -> 0 | E32: =E25-E31 -> 0 | F32: =F25-F31 -> 0 | G32: =G25-G31 -> 0 | H32: =H25-H31 -> 0 | I32: =I25-I31 -> 0 | J32: =J25-J31 -> 0 | K32: =K25-K31 -> 0 | ... O32: =O25-O31 -> 0
B33: [9] | C33: Selling expenses
B34: [10] | C34: Administrative and general expenses
B35: [11] | C35: Financial expenses
B36: [3] | C36: AS&G expenses | D36: =SUM(D33:D35) -> 0 | E36: =SUM(E33:E35) -> 0 | F36: =SUM(F33:F35) -> 0 | G36: =SUM(G33:G35) -> 0 | H36: =SUM(H33:H35) -> 0 | I36: =SUM(I33:I35) -> 0 | J36: =SUM(J33:J35) -> 0 | K36: =SUM(K33:K35) -> 0 | ... O36: =SUM(O33:O35) -> 0
B37: [3] | C37: Operating Income (profit or loss) | D37: =D32-D36 -> 0 | E37: =E32-E36 -> 0 | F37: =F32-F36 -> 0 | G37: =G32-G36 -> 0 | H37: =H32-H36 -> 0 | I37: =I32-I36 -> 0 | J37: =J32-J36 -> 0 | K37: =K32-K36 -> 0 | ... O37: =O32-O36 -> 0
B38: [12] | C38: Interest and 'other' income
B39: [13] | C39: Interest expense
B40: [14] | C40: Extraordinary gains / losses
B41: [15] | C41: Abnormal gains/losses
B42: [3] | C42: Profit before tax | D42: =SUM(D37:D41) -> 0 | E42: =SUM(E37:E41) -> 0 | F42: =SUM(F37:F41) -> 0 | G42: =SUM(G37:G41) -> 0 | H42: =SUM(H37:H41) -> 0 | I42: =SUM(I37:I41) -> 0 | J42: =SUM(J37:J41) -> 0 | K42: =SUM(K37:K41) -> 0 | ... O42: =SUM(O37:O41) -> 0
B43: [16] | C43: Tax
B44: [3] | C44: Profit after tax | D44: =D42-D43 -> 0 | E44: =E42-E43 -> 0 | F44: =F42-F43 -> 0 | G44: =G42-G43 -> 0 | H44: =H42-H43 -> 0 | I44: =I42-I43 -> 0 | J44: =J42-J43 -> 0 | K44: =K42-K43 -> 0 | ... O44: =O42-O43 -> 0
...

Sheet Capacity
B1: =INTRODUCTION!F19 -> Non-confidential | H1: Glossary | I1: Contents
B3: Capacity
B4: Case no.: | D4: =INTRODUCTION!$E11 -> ER0090
B5: Company name: | D5: =INTRODUCTION!$E13 -> 0
B6: POI: | D6: ='Internal use'!$B9 -> 01/01/2025 - 31/12/2025
B7: Injury period (IP): | D7: ='Internal use'!$B5 -> 01/01/2022 - 31/12/2025
B9: Instructions
B10: ▪ Complete the table below, with data on production capacity for the Injury Period. The years have been auto populated.
B11: ▪ Production capacity for each year should be based on conditions in that year, not based on future plans - factory expansions, closures etc.
B12: ▪ Explain the basis for calculating production capacity for the like goods in the 'comments' column in the table (e.g. number of shifts, working days per year, name plate versus actual capacity, idle time for machinery maintenance and changes in the production process etc.) - you can also provide comments in the questionnaire, and/or in a supporting submission.
B13: ▪ Reference source documents you used to complete this table in the 'source documents' column.
B14: ▪ If you have any comments regarding the data supplied (e.g. estimates, method of calculation etc.), please add it to the 'comments' column.
B16: Units of volume | F16: State the unit of volume (e.g. kg. Tonnes, metres, litres, each etc.).
D18: Injury Period (years)
B19: Notes | C19: Production capacity | D19: ='Internal use'!B6 -> 01/01/2022 - 31/12/2022 | E19: ='Internal use'!B7 -> 01/01/2023 - 31/12/2023 | F19: ='Internal use'!B8 -> 01/01/2024 - 31/12/2024 | G19: ='Internal use'!B9 -> 01/01/2025 - 31/12/2025 | H19: Source documents | I19: Comments
B20: [1] | C20: Total production capacity of goods subject to review
B21: [2] | C21: Total of actual production of the goods subject to review
B22: [3] | C22: Total capacity utilisation for goods subject to review (%) | D22: =IF(D20>0,D21/D20,0) -> 0 | E22: =IF(E20>0,E21/E20,0) -> 0 | F22: =IF(F20>0,F21/F20,0) -> 0 | G22: =IF(G20>0,G21/G20,0) -> 0
B23: [3] | C23: Index for goods subject to review (If 20xx = 100) | D23: =IF($D$22 > 0,(D22/$D$22)*100,0) -> 0 | E23: =IF($D$22 > 0,(E22/$D$22)*100,0) -> 0 | F23: =IF($D$22 > 0,(F22/$D$22)*100,0) -> 0 | G23: =IF($D$22 > 0,(G22/$D$22)*100,0) -> 0
B25: Notes
B26: [1] | C26: Total production capacity of goods subject to review - This is the maximum level of production that may reasonably be attained under normal operating conditions. For example normal levels of maintenance and repair; a normal number of shifts and hours of operation and a typical production mix. Please specify the units.
B27: [2] | C27: Total of actual production of the goods subject to review.
B28: [3] | C28: Automatically calculated.

Sheet Stock
B1: =INTRODUCTION!F19 -> Non-confidential | F1: Glossary | G1: Contents
B3: Stock
B4: Case no.: | C4: =INTRODUCTION!$E11 -> ER0090
B5: Company name: | C5: =INTRODUCTION!$E13 -> 0
B6: POI: | C6: ='Internal use'!$B9 -> 01/01/2025 - 31/12/2025
B7: Injury period (IP): | C7: ='Internal use'!$B5 -> 01/01/2022 - 31/12/2025
B9: Instructions
B10: ▪ Complete the table below, to show all elements of stock movement to arrive at Closing stock (finished goods) for the Injury Periods. The years have been auto populated.
B11: ▪ Do NOT input data into the cells coloured yellow. The cells coloured yellow are automatically calculated.
B12: ▪ Enter all data as positive +ve numbers.
B13: ▪ The table requires data input in terms of 'volume' and then 'Value'.
B14: ▪ Add any comments regarding the data supplied on the level and trend in stock in the "Comments on level and trend of stock" column.
B16: Accounting currency | F16: State your accounting currency
B17: Units of volume | F17: State the unit of volume (e.g. kg. Tonnes, metres, litres, each etc.).
D19: Injury Period (Years)
B20: Notes | C20: Stock | D20: ='Internal use'!B6 -> 01/01/2022 - 31/12/2022 | E20: ='Internal use'!B7 -> 01/01/2023 - 31/12/2023 | F20: ='Internal use'!B8 -> 01/01/2024 - 31/12/2024 | G20: ='Internal use'!B9 -> 01/01/2025 - 31/12/2025 | H20: Source documents | I20: Comments on level and trend of stock
B21: [1] | C21: Volume of goods subject to review and like goods
B22: [2] | C22: Opening stock | E22: 0 | F22: =E28 -> 0 | G22: =F28 -> 0
B23: [3] | C23: (+) Production & purchase
B24: [4] | C24: (−) Domestic sales
B25: [4] | C25: (−) Export sales
B26: [4] | C26: (−) Transfers
B27: [4] | C27: (−) Others (e.g. wastage, expiration, theft)
B28: [5] | C28: Closing stock | D28: =D22+D23-D24-D25-D26-D27 -> 0 | E28: =E22+E23-E24-E25-E26-E27 -> 0 | F28: =F22+F23-F24-F25-F26-F27 -> 0 | G28: =G22+G23-G24-G25-G26-G27 -> 0
B29: [6] | C29: Value of goods subject to review and like goods
B30: [2] | C30: Opening stock | E30: =D36 -> 0 | F30: =E36 -> 0 | G30: =F36 -> 0
B31: [3] | C31: (+) Production & purchase
B32: [4] | C32: (−) Domestic sales
B33: [4] | C33: (−) Export sales
B34: [4] | C34: (−) Transfers
B35: [4] | C35: (−) Others (e.g. wastage, expiration, theft)
B36: [5] | C36: Closing stock | D36: =D30+D31-D32-D33-D34-D35 -> 0 | E36: =E30+E31-E32-E33-E34-E35 -> 0 | F36: =F30+F31-F32-F33-F34-F35 -> 0 | G36: =G30+G31-G32-G33-G34-G35 -> 0
B39: Notes
B40: [1] | C40: Specify the unit of volume used (e.g. kg, MT).
B41: [2] | C41: Enter 'Opening stock' volume and value of goods subject to review and like goods in column D; opening stock for other years will then calculate automatically once all other data is entered.
B42: [3] | C42: Enter volume and then value of additions to stock in 'production and purchase' rows for all goods subject to review and like goods'.
B43: [4] | C43: Enter volume and then value of reductions to stock against rows 'Domestic sales', 'Export sales', 'Transfers' and 'Others' rows.
B44: [5] | C44: Closing stock is automatically calculated from the data entered above.
B45: [6] | C45: Specify the currency used.

Sheet Glossary
B1: =INTRODUCTION!F19 -> Non-confidential | K1: Contents
B3: Glossary
B6: Term | C6: Explanation
B7: Accounting period | C7: Time frame used for financial reporting. Transactions that fall within a given date range form part of the statements or reports for that accounting period. It is often a 12-month period but there can be exceptions e.g. when a company changes its financial year end.
B8: Accounting policies | C8: Specific principles, bases, conventions, rules and practices applied by an entity in preparing and presenting financial statements.
B9: Accounting system | C9: Set of accounting processes with integrated procedures and controls which a business uses to record its basic financial transactions. Many businesses use accounting software to carry out this process.
B10: Administrative, selling and general costs (AS&G) | C10: The administration, selling and general expenses includes all selling, distribution, general and administration expenses including finance costs that would be incurred if the goods were sold for domestic consumption in the country of export. The amounts are determined in each case using all the available information and may include related expenses incurred.
B11: Amortization | C11: Gradual and periodic reduction of any amount, such as the periodic writedown of a loan or the cost of an intangible asset.
B12: Associated parties | C12: Both natural persons (individuals) and legal persons (e.g. companies) are considered to be associated where they meet the definition of ‘Related Persons’ in Regulation 128 of the Customs (Import Duty) (EU Exit) Regulations 2018.
B13: By products | C13: Products which are produced incidentally in the process of manufacturing the main products. It is not the company's goal to produce by-products, therefore they have a relatively low sales value.
B14: Complementary good | C14: Goods that are usually used/ consumed together. e.g. tennis rackets and tennis balls.
B15: Consolidated accounts | C15: Set of financial statements that combine the financial information of a parent company and its subsidiaries into a single, unified report. This aggregated report details the assets, liabilities, income, and expenses of the group as one single economic entity.
B16: Cost allocation | C16: Cost allocation is the assigning of a cost to several products or departments.
B17: Cost centre | C17: A physical area or a department or function in an organisation for which costs can be related to. They do not necessarily generate revenues but incur costs for example - Assembly area, HR etc. More about this is the next session.
... B56: Trial balance | C56: A trial balance is a list of ledger balances shown in debit and credit columns. It lists the balances on ledger accounts and totals them. Total debits should equal total credits.

Sheet Internal use
A1: YES | B1: Confidential
A2: NO | B2: Non-confidential
A5: Injury period | B5: =TEXT(INTRODUCTION!F24,"dd/mm/yyyy") &" - " & TEXT(INTRODUCTION!H24,"dd/mm/yyyy") -> 01/01/2022 - 31/12/2025
A6: Year 1 | B6: =TEXT(EDATE(INTRODUCTION!F22,-36),"dd/mm/yyyy") &" - " & TEXT(EDATE(INTRODUCTION!H22,-36),"dd/mm/yyyy") -> 01/01/2022 - 31/12/2022 | C6: -36
A7: Year 2 | B7: =TEXT(EDATE(INTRODUCTION!F22,-24),"dd/mm/yyyy") &" - " & TEXT(EDATE(INTRODUCTION!H22,-24),"dd/mm/yyyy") -> 01/01/2023 - 31/12/2023 | C7: -24
A8: Year 3 | B8: =TEXT(EDATE(INTRODUCTION!F22,-12),"dd/mm/yyyy") &" - " & TEXT(EDATE(INTRODUCTION!H22,-12),"dd/mm/yyyy") -> 01/01/2024 - 31/12/2024 | C8: -12
A9: POI | B9: =TEXT(INTRODUCTION!F22,"dd/mm/yyyy") &" - " & TEXT(INTRODUCTION!H22,"dd/mm/yyyy") -> 01/01/2025 - 31/12/2025
